Workbook

Sheet Instructions
A2: Student Assessment Report Instructions Page
A4: Category | B4: Item | C4: Instructions
A5: Getting Started | B5: 1 | C5: Save this workbook to your computer. Click "File" in the top left corner, then save as. Name this workbook with your name and grade level. Example - "Larsen 2, Assessment Report"
B6: 2 | C6: Enter your name and school year on the "1 Test" page. This will automatically be copied throughout the Test sheets in the workbook. The HW sheets will need to be complete seperately.
B7: 3 | C7: For each math or literature class, make sure you have the correct monthly testing form as they are different from one or the other and are not interchangable.
B8: 4 | C8: For each class, in the class box enter the grade level and course. Enter student names and student 4-digit ID number on the "Test" pages. Homework pages will need to be completed seperately.
B9: 5 | C9: Enter grade TECS averages, and end of year proficiency cut scores in the provided cells near the top right corner for each test and homework sheet your classes will use. These averages are found on the "TECS Ave" page.
A11: Entering Scores | B11: 1 | C11: Once a test has been given, is graded, and is ready to enter, click on the corresponding page. Find the appropriate column and enter the score for the corresponding student. The class averages, student averages, gains, and proficiency will automatically calculate.
A13: Reading Scores and Graphs | B13: 1 | C13: The "% Apr Ave" column shows the max score divided by the April average. If the max score exceeds the April average, this number will be above 100% (and vise versa).
B14: 2 | C14: The "Test" page has a "Gain" column. This shows how much students progressed from August to their highest yearly score.
B15: 3 | C15: Both assessments have a "E of Y Prof" column. This identifies if a student has scored at or above the grade level proficiency cut. The class averages calculate the percentage of proficient students.
B16: 4 | C16: See a summary of your class' scores on the "Scores" page.
B17: 5 | C17: Not up to date. The "COMBINED ASSESSMENT TOTALS" box of the "Scores" page shows three key categories of your class' performance. The first is the percentage acheived of all assessments for that class in comparison to the TECS April average. For example, if your class has scored a 900 on the SRI and the TECS average is 1000, their percentage of the TECS average would be 90%. The score you see for each class would be that 90% averaged with the same score for homework. The second is the average growth of all assessments. The third is the average percent proficient. As noted, the totals are weighted based on the number of students. For example, a class of 30 students would count twice as much to the average as a class of 15.
A19: Adding / Deleting Students Mid-Year | B19: 1 | C19: If a student leaves the school mid-year, leave the student there.
B20: 2 | C20: If a student moves in mid-year, add their name to the next available line on each page. No, it won't be alphabetized, but moving the names around will mess up the student profiles.
B21: 3 | C21: In order to see a growth score for new students, enter in their first score in the August column. For example, Johnny moved in for the January test, I would enter his score in twice, once in January and once in August.
A23: Printing | B23: 1 | C23: To print a page, select the page, click the office icon in the top left corner, and print.
B24: 2 | C24: To print multiple pages, click the first page in the group you wish to print, then hold the shift key and click the last (Use navigation arrows at the bottom left of the screen if needed.). This will highlight all of the desired pages. Then click the office icon, then print. Make sure "all" is selected in the "Print Range" section as well as "active sheet(s)" in the "Print What" section.
A26: Frequently Asked Questions | B26: 2 | C26: Why are there dashes in all the empty boxes? This prevents calculations from factoring in empty boxes as zeros. Please don't delete the dashes, as doing so will skew scores.
B27: 3 | C27: Why can't I change or even click on some cells? The reason is because you shouldn't be changing those cells anyway. Every sheet in the workbook should be password protected, thus prohibiting anyone from changing anything that you shouldn't be changing. The only cells left unprotected and therefore made able for you to change are student names and student scores. If for some reason you feel you need the password to unprotect a page, ask Brad for help. The password is "a". The most common way things get messed up is by cutting and/or copying/pasting. This will sometimes rearrange formulas that shouldn't be rearranged. The only copy/pasting you should do is student names from the class pages to the test pages.
B28: 4 | C28: Who should report the scores of special education students? The special education teacher should help you report the scores.
B29: 5 | C29: What's up with the last page called "Don't Click Here"? "Don't Click Here" is a page that facilitates Brad's job in making the school file.

Sheet TECS Ave
B2: Student Assessment Report
B3: Thomas Edison Averages
B5: 70 Phono | E5: Spelling | H5: Words Per Min | K5: Reading - IXL | N5: ELA- IXL | Q5: Math - IXL | T5: Subtraction | W5: Multiplication | Z5: Homework
B6: Aug | C6: Apr | D6: CUT | E6: Aug | F6: Apr | G6: CUT | H6: Aug | I6: Apr | J6: CUT | K6: Aug | L6: Apr | M6: CUT | N6: Aug | O6: Apr | P6: CUT | Q6: Aug | R6: Apr | S6: CUT | T6: Aug | U6: Apr | V6: CUT | W6: Aug | X6: Apr | Y6: CUT | Z6: Ave | AA6: CUT
A7: First | B7: 26.56 | C7: 61.1 | D7: 60 | E7: 1.7 | F7: 3.4 | G7: 1.9 | H7: - | I7: - | J7: - | K7: - | L7: - | M7: - | N7: - | O7: - | P7: - | Q7: - | R7: - | S7: - | T7: - | U7: - | V7: - | W7: - | X7: - | Y7: - | Z7: 0.94 | AA7: 0.9
A8: Second | B8: 41.73 | C8: 62.64 | D8: 63 | E8: 3.1 | F8: 4.4 | G8: 2.9 | H8: 60.1 | I8: 106.5 | J8: 89 | K8: - | L8: - | M8: 300 | N8: - | O8: - | P8: - | Q8: - | R8: - | S8: 300 | T8: 0.164 | U8: 0.377 | V8: 0.2 | W8: - | X8: - | Y8: - | Z8: 0.88 | AA8: 0.9
A9: Third | B9: 52.22 | C9: 64.59 | D9: 63 | E9: 4.1 | F9: 5.9 | G9: 3.9 | H9: 89.3 | I9: 125.3 | J9: 107 | K9: 287 | L9: 397 | M9: 400 | N9: - | O9: - | P9: - | Q9: 277 | R9: 394 | S9: 400 | T9: 0.272 | U9: 0.522 | V9: 0.35 | W9: 0.20932 | X9: 0.52 | Y9: 0.3 | Z9: 0.9042 | AA9: 0.9
A10: Fourth | B10: 55.67 | C10: 65.78 | D10: 63 | E10: 5.2 | F10: 7 | G10: 4.9 | H10: 97.9 | I10: 123.5 | J10: 123 | K10: 402 | L10: 465 | M10: 500 | N10: 398 | O10: 499 | P10: 500 | Q10: 384 | R10: 458 | S10: 500 | T10: 0.331 | U10: 0.565 | V10: 0.5 | W10: 0.37 | X10: 0.67 | Y10: 0.5 | Z10: 0.87 | AA10: 0.9
A11: Fifth | B11: - | C11: - | D11: - | E11: 6.192 | F11: 8.328 | G11: 5.9 | H11: 116.6 | I11: 140.2 | J11: 139 | K11: 484 | L11: 591 | M11: 600 | N11: 482 | O11: 620 | P11: 600 | Q11: 446 | R11: 593 | S11: 600 | T11: 0.498 | U11: 0.713 | V11: 0.6 | W11: 0.54 | X11: 0.79 | Y11: 0.65 | Z11: 0.9334 | AA11: 0.9
A12: Six | B12: - | C12: - | D12: - | E12: - | F12: - | G12: - | H12: - | I12: - | J12: - | K12: 639 | L12: 674 | M12: 700 | N12: - | O12: - | P12: 700 | Q12: 485 | R12: 678 | S12: 700 | T12: - | U12: - | V12: - | W12: - | X12: - | Y12: - | Z12: 0.9 | AA12: 0.9
A13: Seventh | B13: - | C13: - | D13: - | E13: - | F13: - | G13: - | H13: - | I13: - | J13: - | K13: 659 | L13: 776 | M13: 800 | N13: - | O13: - | P13: 800 | Q13: 610 | R13: 743 | S13: 800 | T13: - | U13: - | V13: - | W13: - | X13: - | Y13: - | Z13: 0.91 | AA13: 0.9
A14: Eighth | B14: - | C14: - | D14: - | E14: - | F14: - | G14: - | H14: - | I14: - | J14: - | K14: 802 | L14: 850 | M14: 900 | N14: - | O14: - | P14: 900 | Q14: 635 | R14: 789 | S14: 900 | T14: - | U14: - | V14: - | W14: - | X14: - | Y14: - | Z14: 0.91 | AA14: 0.9
A15: AVERAGE | B15: =AVERAGE(B7:B14) -> 44.045 | C15: =AVERAGE(C7:C14) -> 63.5275 | D15: =AVERAGE(D7:D14) -> 62.25 | E15: =AVERAGE(E7:E14) -> 4.0584 | F15: =AVERAGE(F7:F14) -> 5.8056 | G15: =AVERAGE(G7:G14) -> 3.9 | H15: =AVERAGE(H7:H14) -> 90.975 | I15: =AVERAGE(I7:I14) -> 123.875 | J15: =AVERAGE(J7:J14) -> 114.5 | K15: =IFERROR((AVERAGE(K7:K14)),"-") -> 545.5 | L15: =IFERROR((AVERAGE(L7:L14)),"-") -> 625.5 | M15: =AVERAGE(M7:M14) -> 600 | N15: =IFERROR((AVERAGE(N7:N14)),"-") -> 440 | O15: =IFERROR((AVERAGE(O7:O14)),"-") -> 559.5 | P15: =IFERROR((AVERAGE(P7:P14)),"-") -> 700 | Q15: =IFERROR((AVERAGE(Q7:Q14)),"-") -> 472.83333 | R15: =IFERROR((AVERAGE(R7:R14)),"-") -> 609.16667 | S15: =IFERROR((AVERAGE(S7:S14)),"-") -> 600 | T15: =AVERAGE(T7:T14) -> 0.31625 | U15: =AVERAGE(U7:U14) -> 0.54425 | V15: =AVERAGE(V7:V14) -> 0.4125 | W15: =AVERAGE(W7:W14) -> 0.37310667 | X15: =AVERAGE(X7:X14) -> 0.66 | Y15: =AVERAGE(Y7:Y14) -> 0.48333333 | Z15: =AVERAGE(Z7:Z14) -> 0.90595 | AA15: =AVERAGE(AA7:AA14) -> 0.9
A16: % GAIN | B16: =(C15-B15)/B15 -> 0.44233171 | D16: - | E16: =(F15-E15)/E15 -> 0.43051449 | G16: - | H16: =(I15-H15)/H15 -> 0.36163781 | J16: - | K16: =IFERROR(((L15-K15)/K15),"-") -> 0.14665445 | M16: - | N16: =IFERROR(((O15-N15)/N15),"-") -> 0.27159091 | P16: - | Q16: =IFERROR(((R15-Q15)/Q15),"-") -> 0.28833275 | S16: - | T16: =(U15-T15)/T15 -> 0.72094862 | V16: - | W16: =(X15-W15)/W15 -> 0.76893114 | Y16: - | Z16: - | AA16: -
A17: * "CUT" refers to the grade level proficiency cut point.

Sheet Scores
B1: Student Assessment Report
B2: Achievement Summary
A4: TEACHER | D4: YEAR | F4: DATE
A5: =#REF! -> #REF! | D5: =#REF! -> #REF! | F5: =TODAY() -> 45107
A7: Combined Assessment Totals | N7: % April Average | U7: % Gain | AA7: % Proficient
A8: CLASS | B8: % April Ave. | C8: % Gain | D8: % Proficient | E8: % April Ave. | H8: % Gain | K8: % Proficient
A9: =A19 -> ? | B9: =IFERROR((AVERAGE(Q11:T11)),"-") -> - | C9: =IFERROR(AVERAGE(X11:Z11),"-") -> - | D9: =IFERROR(AVERAGE(AD11:AG11),"-") -> - | N9: Stud | O9: S per T | U9: Stud | V9: S per T | AA9: Stud | AB9: S per T
A10: =A20 -> ? | B10: =IFERROR((AVERAGE(Q12:T12)),"-") -> - | C10: =IFERROR(AVERAGE(X12:Z12),"-") -> - | D10: =IFERROR(AVERAGE(AD12:AG12),"-") -> - | N10: =SUM(N11:N15) -> 5 | O10: =SUM(O11:O15) -> 0 | Q10: Schol | R10: HW | U10: =SUM(U11:U15) -> 5 | V10: =SUM(V11:V15) -> 0 | X10: Schol | AA10: =SUM(AA11:AA15) -> 5 | AB10: =SUM(AB11:AB15) -> 0 | AD10: Schol | AE10: HW
A11: =A21 -> ? | B11: =IFERROR((AVERAGE(Q13:T13)),"-") -> - | C11: =IFERROR(AVERAGE(X13:Z13),"-") -> - | D11: =IFERROR(AVERAGE(AD13:AG13),"-") -> - | N11: =U11 -> 1 | O11: =IFERROR((COUNT(Q11:T11)*N11),"-") -> 0 | P11: =IFERROR((AVERAGE(Q11:T11)*O11),"-") -> - | Q11: =IFERROR((MAX(B19:D19)/'1 Test'!$H$6),"-") -> - | R11: =IFERROR((H27/#REF!),"-") -> - | U11: =IF(COUNTA(#REF!)=0,"-",COUNTA(#REF!)) -> 1 | V11: =IFERROR((COUNT(X11:Z11)*U11),"-") -> 0 | W11: =IFERROR((AVERAGE(X11:Z11)*V11),"-") -> - | X11: =F19 -> - | AA11: =U11 -> 1 | AB11: =IFERROR((COUNT(AD11:AG11)*AA11),"-") -> 0 | AC11: =IFERROR((AVERAGE(AD11:AG11)*AB11),"-") -> - | AD11: =G19 -> - | AE11: =J27 -> #REF!
A12: =A22 -> ? | B12: =IFERROR((AVERAGE(Q14:T14)),"-") -> - | C12: =IFERROR(AVERAGE(X14:Z14),"-") -> - | D12: =IFERROR(AVERAGE(AD14:AG14),"-") -> - | N12: =U12 -> 1 | O12: =IFERROR((COUNT(Q12:T12)*N12),"-") -> 0 | P12: =IFERROR((AVERAGE(Q12:T12)*O12),"-") -> - | Q12: =IFERROR((MAX(B20:D20)/'2 Test'!$H$6),"-") -> - | R12: =IFERROR((H28/#REF!),"-") -> - | U12: =IF(COUNTA(#REF!)=0,"-",COUNTA(#REF!)) -> 1 | V12: =IFERROR((COUNT(X12:Z12)*U12),"-") -> 0 | W12: =IFERROR((AVERAGE(X12:Z12)*V12),"-") -> - | X12: =F20 -> - | AA12: =U12 -> 1 | AB12: =IFERROR((COUNT(AD12:AG12)*AA12),"-") -> 0 | AC12: =IFERROR((AVERAGE(AD12:AG12)*AB12),"-") -> - | AD12: =G20 -> - | AE12: =J28 -> #REF!
A13: =A23 -> ? | B13: =IFERROR((AVERAGE(Q15:T15)),"-") -> - | C13: =IFERROR(AVERAGE(X15:Z15),"-") -> - | D13: =IFERROR(AVERAGE(AD15:AG15),"-") -> - | N13: =U13 -> 1 | O13: =IFERROR((COUNT(Q13:T13)*N13),"-") -> 0 | P13: =IFERROR((AVERAGE(Q13:T13)*O13),"-") -> - | Q13: =IFERROR((MAX(B21:D21)/'3 Test'!$H$6),"-") -> - | R13: =IFERROR((H29/#REF!),"-") -> - | U13: =IF(COUNTA(#REF!)=0,"-",COUNTA(#REF!)) -> 1 | V13: =IFERROR((COUNT(X13:Z13)*U13),"-") -> 0 | W13: =IFERROR((AVERAGE(X13:Z13)*V13),"-") -> - | X13: =F21 -> - | AA13: =U13 -> 1 | AB13: =IFERROR((COUNT(AD13:AG13)*AA13),"-") -> 0 | AC13: =IFERROR((AVERAGE(AD13:AG13)*AB13),"-") -> - | AD13: =G21 -> - | AE13: =J29 -> #REF!
A14: TOTALS | B14: =IFERROR((SUM(P11:P15)/SUM(O11:O15)),"-") -> - | C14: =IFERROR((SUM(W11:W15)/SUM(V11:V15)),"-") -> - | D14: =IFERROR((SUM(AC11:AC15)/SUM(AB11:AB15)),"-") -> - | N14: =U14 -> 1 | O14: =IFERROR((COUNT(Q14:T14)*N14),"-") -> 0 | P14: =IFERROR((AVERAGE(Q14:T14)*O14),"-") -> - | Q14: =IFERROR((MAX(B22:D22)/'4 Test'!$H$6),"-") -> - | R14: =IFERROR((H30/#REF!),"-") -> - | U14: =IF(COUNTA(#REF!)=0,"-",COUNTA(#REF!)) -> 1 | V14: =IFERROR((COUNT(X14:Z14)*U14),"-") -> 0 | W14: =IFERROR((AVERAGE(X14:Z14)*V14),"-") -> - | X14: =F22 -> - | AA14: =U14 -> 1 | AB14: =IFERROR((COUNT(AD14:AG14)*AA14),"-") -> 0 | AC14: =IFERROR((AVERAGE(AD14:AG14)*AB14),"-") -> - | AD14: =G22 -> - | AE14: =J30 -> #REF!
A15: *Totals are weighted based on class size. | N15: =U15 -> 1 | O15: =IFERROR((COUNT(Q15:T15)*N15),"-") -> 0 | P15: =IFERROR((AVERAGE(Q15:T15)*O15),"-") -> - | Q15: =IFERROR((MAX(#REF!)/'5 Test'!$H$6),"-") -> - | R15: =IFERROR((H31/#REF!),"-") -> - | U15: =IF(COUNTA(#REF!)=0,"-",COUNTA(#REF!)) -> 1 | V15: =IFERROR((COUNT(X15:Z15)*U15),"-") -> 0 | W15: =IFERROR((AVERAGE(X15:Z15)*V15),"-") -> - | X15: =F23 -> - | AA15: =U15 -> 1 | AB15: =IFERROR((COUNT(AD15:AG15)*AA15),"-") -> 0 | AC15: =IFERROR((AVERAGE(AD15:AG15)*AB15),"-") -> - | AD15: =G23 -> - | AE15: =J31 -> #REF!
A17: IXL Assessment
A18: CLASS | B18: 1st | C18: 2nd | D18: 3rd | E18: % Apr Ave | F18: % Gain | G18: E of Y Prof
A19: ='1 Test'!E7 -> ? | B19: =IFERROR(('1 Test'!D$46),"-") -> - | C19: =IFERROR(('1 Test'!E$46),"-") -> - | D19: =IFERROR(('1 Test'!F$46),"-") -> - | E19: ='1 Test'!H46 -> - | F19: ='1 Test'!I46 -> - | G19: ='1 Test'!J46 -> - | N19: GP1 | O19: GP2 | P19: GP3 | Q19: GP4 | R19: GP5 | S19: GP6 | T19: Average | U19: % Apr Ave
A20: ='2 Test'!E7 -> ? | B20: =IFERROR(('2 Test'!D$46),"-") -> - | C20: =IFERROR(('2 Test'!E$46),"-") -> - | D20: =IFERROR(('2 Test'!F$46),"-") -> - | E20: ='2 Test'!H46 -> - | F20: ='2 Test'!I46 -> - | G20: ='2 Test'!J46 -> - | N20: =IFERROR((B27*$N11),"-") -> - | O20: =IFERROR((C27*$N11),"-") -> - | P20: =IFERROR((D27*$N11),"-") -> - | Q20: =IFERROR((E27*$N11),"-") -> - | R20: =IFERROR((F27*$N11),"-") -> - | S20: =IFERROR((G27*$N11),"-") -> - | T20: =IFERROR((H27*$N11),"-") -> - | U20: =IFERROR((I27*$N11),"-") -> -
A21: ='3 Test'!E7 -> ? | B21: =IFERROR(('3 Test'!D$46),"-") -> - | C21: =IFERROR(('3 Test'!E$46),"-") -> - | D21: =IFERROR(('3 Test'!F$46),"-") -> - | E21: ='3 Test'!H46 -> - | F21: ='3 Test'!I46 -> - | G21: ='3 Test'!J46 -> - | N21: =IFERROR((B28*$N12),"-") -> - | O21: =IFERROR((C28*$N12),"-") -> - | P21: =IFERROR((D28*$N12),"-") -> - | Q21: =IFERROR((E28*$N12),"-") -> - | R21: =IFERROR((F28*$N12),"-") -> - | S21: =IFERROR((G28*$N12),"-") -> - | T21: =IFERROR((H28*$N12),"-") -> - | U21: =IFERROR((I28*$N12),"-") -> -
A22: ='4 Test'!E7 -> ? | B22: =IFERROR(('4 Test'!D$46),"-") -> - | C22: =IFERROR(('4 Test'!E$46),"-") -> - | D22: =IFERROR(('4 Test'!F$46),"-") -> - | E22: ='4 Test'!H46 -> - | F22: ='4 Test'!I46 -> - | G22: ='4 Test'!J46 -> - | N22: =IFERROR((B29*$N13),"-") -> - | O22: =IFERROR((C29*$N13),"-") -> - | P22: =IFERROR((D29*$N13),"-") -> - | Q22: =IFERROR((E29*$N13),"-") -> - | R22: =IFERROR((F29*$N13),"-") -> - | S22: =IFERROR((G29*$N13),"-") -> - | T22: =IFERROR((H29*$N13),"-") -> - | U22: =IFERROR((I29*$N13),"-") -> -
A23: ='5 Test'!E7 -> ? | B23: =IFERROR(('5 Test'!D$46),"-") -> - | C23: =IFERROR(('5 Test'!E$46),"-") -> - | D23: =IFERROR(('5 Test'!F$46),"-") -> - | E23: ='5 Test'!H46 -> - | F23: ='5 Test'!I46 -> - | G23: ='5 Test'!J46 -> - | N23: =IFERROR((B30*$N14),"-") -> - | O23: =IFERROR((C30*$N14),"-") -> - | P23: =IFERROR((D30*$N14),"-") -> - | Q23: =IFERROR((E30*$N14),"-") -> - | R23: =IFERROR((F30*$N14),"-") -> - | S23: =IFERROR((G30*$N14),"-") -> - | T23: =IFERROR((H30*$N14),"-") -> - | U23: =IFERROR((I30*$N14),"-") -> -
N24: =IFERROR((B31*$N15),"-") -> - | O24: =IFERROR((C31*$N15),"-") -> - | P24: =IFERROR((D31*$N15),"-") -> - | Q24: =IFERROR((E31*$N15),"-") -> - | R24: =IFERROR((F31*$N15),"-") -> - | S24: =IFERROR((G31*$N15),"-") -> - | T24: =IFERROR((H31*$N15),"-") -> - | U24: =IFERROR((I31*$N15),"-") -> -
A25: Homework Completion
A26: CLASS | B26: GP1 | C26: GP2 | D26: GP3 | E26: GP4 | F26: GP5 | G26: GP6 | H26: AVE | I26: % Apr Ave | J26: E of Y Prof
A27: =A19 -> ? | B27: =IFERROR((#REF!),"-") -> - | C27: =IFERROR((#REF!),"-") -> - | D27: =IFERROR((#REF!),"-") -> - | E27: =IFERROR((#REF!),"-") -> - | F27: =IFERROR((#REF!),"-") -> - | G27: =IFERROR((#REF!),"-") -> - | H27: =IFERROR((#REF!),"-") -> - | I27: =#REF! -> #REF! | J27: =#REF! -> #REF!
A28: =A20 -> ? | B28: =IFERROR((#REF!),"-") -> - | C28: =IFERROR((#REF!),"-") -> - | D28: =IFERROR((#REF!),"-") -> - | E28: =IFERROR((#REF!),"-") -> - | F28: =IFERROR((#REF!),"-") -> - | G28: =IFERROR((#REF!),"-") -> - | H28: =IFERROR((#REF!),"-") -> - | I28: =#REF! -> #REF! | J28: =#REF! -> #REF!
A29: =A21 -> ? | B29: =IFERROR((#REF!),"-") -> - | C29: =IFERROR((#REF!),"-") -> - | D29: =IFERROR((#REF!),"-") -> - | E29: =IFERROR((#REF!),"-") -> - | F29: =IFERROR((#REF!),"-") -> - | G29: =IFERROR((#REF!),"-") -> - | H29: =IFERROR((#REF!),"-") -> - | I29: =#REF! -> #REF! | J29: =#REF! -> #REF!
A30: =A22 -> ? | B30: =IFERROR((#REF!),"-") -> - | C30: =IFERROR((#REF!),"-") -> - | D30: =IFERROR((#REF!),"-") -> - | E30: =IFERROR((#REF!),"-") -> - | F30: =IFERROR((#REF!),"-") -> - | G30: =IFERROR((#REF!),"-") -> - | H30: =IFERROR((#REF!),"-") -> - | I30: =#REF! -> #REF! | J30: =#REF! -> #REF!
A31: =A23 -> ? | B31: =IFERROR((#REF!),"-") -> - | C31: =IFERROR((#REF!),"-") -> - | D31: =IFERROR((#REF!),"-") -> - | E31: =IFERROR((#REF!),"-") -> - | F31: =IFERROR((#REF!),"-") -> - | G31: =IFERROR((#REF!),"-") -> - | H31: =IFERROR((#REF!),"-") -> - | I31: =#REF! -> #REF! | J31: =#REF! -> #REF!

Sheet 1 Test
B2: Student Assessment Report
B3: IXL Diagnostic for Math
A5: TEACHER | C5: YEAR | E5: Class | H5: Math
E6: I.e 6th (Course 3) | H6: Aug | I6: Apr | J6: Prof.
A7: ?? | C7: ?? | E7: ? | H7: - | I7: - | J7: -
D9: Overall Math Level | L9: Numbers & Operations | P9: Algebra & Algebraic Thinking | T9: Fractions | X9: Geometry | AB9: Measurement | AF9: Data, Statics, & Probability
A10: STUDENT NAME | C10: Student # | D10: 1st | E10: 2nd | F10: 3rd | H10: % Apr | I10: % Gain | J10: Prof. | L10: 1st | M10: 2nd | N10: 3rd | P10: 1st | Q10: 2nd | R10: 3rd | T10: 1st | U10: 2nd | V10: 3rd | X10: 1st | Y10: 2nd | Z10: 3rd | AB10: 1st | AC10: 2nd | AD10: 3rd | AF10: 1st | AG10: 2nd | AH10: 3rd
A11: 1 | C11: - | E11: - | F11: - | H11: =IFERROR((IF((MAX(D11:F11)/I$7)=0,"-",MAX(D11:F11)/I$7)),"-") -> - | I11: =IFERROR((IF((MAX(D11:F11)-D11)/D11=0,"-",MAX(D11:F11)-D11)/D11),"-") -> - | J11: =IFERROR(((IF((MAX(D11:F11)/J$7)=0,"-",IF(MAX(D11:F11)>=J$7,"Yes","No")))),"-") -> -
A12: 2 | C12: - | D12: - | E12: - | F12: - | H12: =IFERROR((IF((MAX(D12:F12)/I$7)=0,"-",MAX(D12:F12)/I$7)),"-") -> - | I12: =IFERROR((IF((MAX(D12:F12)-D12)/D12=0,"-",MAX(D12:F12)-D12)/D12),"-") -> - | J12: =IFERROR(((IF((MAX(D12:F12)/J$7)=0,"-",IF(MAX(D12:F12)>=J$7,"Yes","No")))),"-") -> -
A13: 3 | C13: - | D13: - | E13: - | F13: - | H13: =IFERROR((IF((MAX(D13:F13)/I$7)=0,"-",MAX(D13:F13)/I$7)),"-") -> - | I13: =IFERROR((IF((MAX(D13:F13)-D13)/D13=0,"-",MAX(D13:F13)-D13)/D13),"-") -> - | J13: =IFERROR(((IF((MAX(D13:F13)/J$7)=0,"-",IF(MAX(D13:F13)>=J$7,"Yes","No")))),"-") -> -
A14: 4 | C14: - | D14: - | E14: - | F14: - | H14: =IFERROR((IF((MAX(D14:F14)/I$7)=0,"-",MAX(D14:F14)/I$7)),"-") -> - | I14: =IFERROR((IF((MAX(D14:F14)-D14)/D14=0,"-",MAX(D14:F14)-D14)/D14),"-") -> - | J14: =IFERROR(((IF((MAX(D14:F14)/J$7)=0,"-",IF(MAX(D14:F14)>=J$7,"Yes","No")))),"-") -> -
A15: 5 | C15: - | D15: - | E15: - | F15: - | H15: =IFERROR((IF((MAX(D15:F15)/I$7)=0,"-",MAX(D15:F15)/I$7)),"-") -> - | I15: =IFERROR((IF((MAX(D15:F15)-D15)/D15=0,"-",MAX(D15:F15)-D15)/D15),"-") -> - | J15: =IFERROR(((IF((MAX(D15:F15)/J$7)=0,"-",IF(MAX(D15:F15)>=J$7,"Yes","No")))),"-") -> -
A16: 6 | C16: - | D16: - | E16: - | F16: - | H16: =IFERROR((IF((MAX(D16:F16)/I$7)=0,"-",MAX(D16:F16)/I$7)),"-") -> - | I16: =IFERROR((IF((MAX(D16:F16)-D16)/D16=0,"-",MAX(D16:F16)-D16)/D16),"-") -> - | J16: =IFERROR(((IF((MAX(D16:F16)/J$7)=0,"-",IF(MAX(D16:F16)>=J$7,"Yes","No")))),"-") -> -
A17: 7 | C17: - | D17: - | E17: - | F17: - | H17: =IFERROR((IF((MAX(D17:F17)/I$7)=0,"-",MAX(D17:F17)/I$7)),"-") -> - | I17: =IFERROR((IF((MAX(D17:F17)-D17)/D17=0,"-",MAX(D17:F17)-D17)/D17),"-") -> - | J17: =IFERROR(((IF((MAX(D17:F17)/J$7)=0,"-",IF(MAX(D17:F17)>=J$7,"Yes","No")))),"-") -> -
A18: 8 | C18: - | D18: - | E18: - | F18: - | H18: =IFERROR((IF((MAX(D18:F18)/I$7)=0,"-",MAX(D18:F18)/I$7)),"-") -> - | I18: =IFERROR((IF((MAX(D18:F18)-D18)/D18=0,"-",MAX(D18:F18)-D18)/D18),"-") -> - | J18: =IFERROR(((IF((MAX(D18:F18)/J$7)=0,"-",IF(MAX(D18:F18)>=J$7,"Yes","No")))),"-") -> -
A19: 9 | C19: - | D19: - | E19: - | F19: - | H19: =IFERROR((IF((MAX(D19:F19)/I$7)=0,"-",MAX(D19:F19)/I$7)),"-") -> - | I19: =IFERROR((IF((MAX(D19:F19)-D19)/D19=0,"-",MAX(D19:F19)-D19)/D19),"-") -> - | J19: =IFERROR(((IF((MAX(D19:F19)/J$7)=0,"-",IF(MAX(D19:F19)>=J$7,"Yes","No")))),"-") -> -
A20: 10 | C20: - | D20: - | E20: - | F20: - | H20: =IFERROR((IF((MAX(D20:F20)/I$7)=0,"-",MAX(D20:F20)/I$7)),"-") -> - | I20: =IFERROR((IF((MAX(D20:F20)-D20)/D20=0,"-",MAX(D20:F20)-D20)/D20),"-") -> - | J20: =IFERROR(((IF((MAX(D20:F20)/J$7)=0,"-",IF(MAX(D20:F20)>=J$7,"Yes","No")))),"-") -> -
A21: 11 | C21: - | D21: - | E21: - | F21: - | H21: =IFERROR((IF((MAX(D21:F21)/I$7)=0,"-",MAX(D21:F21)/I$7)),"-") -> - | I21: =IFERROR((IF((MAX(D21:F21)-D21)/D21=0,"-",MAX(D21:F21)-D21)/D21),"-") -> - | J21: =IFERROR(((IF((MAX(D21:F21)/J$7)=0,"-",IF(MAX(D21:F21)>=J$7,"Yes","No")))),"-") -> -
A22: 12 | C22: - | D22: - | E22: - | F22: - | H22: =IFERROR((IF((MAX(D22:F22)/I$7)=0,"-",MAX(D22:F22)/I$7)),"-") -> - | I22: =IFERROR((IF((MAX(D22:F22)-D22)/D22=0,"-",MAX(D22:F22)-D22)/D22),"-") -> - | J22: =IFERROR(((IF((MAX(D22:F22)/J$7)=0,"-",IF(MAX(D22:F22)>=J$7,"Yes","No")))),"-") -> -
A23: 13 | C23: - | D23: - | E23: - | F23: - | H23: =IFERROR((IF((MAX(D23:F23)/I$7)=0,"-",MAX(D23:F23)/I$7)),"-") -> - | I23: =IFERROR((IF((MAX(D23:F23)-D23)/D23=0,"-",MAX(D23:F23)-D23)/D23),"-") -> - | J23: =IFERROR(((IF((MAX(D23:F23)/J$7)=0,"-",IF(MAX(D23:F23)>=J$7,"Yes","No")))),"-") -> -
... A45: 35 | C45: - | D45: - | E45: - | F45: - | H45: =IFERROR((IF((MAX(D45:F45)/I$7)=0,"-",MAX(D45:F45)/I$7)),"-") -> - | I45: =IFERROR((IF((MAX(D45:F45)-D45)/D45=0,"-",MAX(D45:F45)-D45)/D45),"-") -> - | J45: =IFERROR(((IF((MAX(D45:F45)/J$7)=0,"-",IF(MAX(D45:F45)>=J$7,"Yes","No")))),"-") -> -
A46: CLASS AVERAGES | D46: =IFERROR(AVERAGE(D11:D45),"-") -> - | E46: =IFERROR(AVERAGE(E11:E45),"-") -> - | F46: =IFERROR(AVERAGE(F11:F45),"-") -> - | H46: =IFERROR((IF((MAX(D46:F46)/I$7)=0,"-",MAX(D46:F46)/I$7)),"-") -> - | I46: =IFERROR((IF((MAX(D46:F46)-D46)/D46=0,"-",MAX(D46:F46)-D46)/D46),"-") -> - | J46: =IFERROR((COUNTIF(J11:J45,"Yes")/(COUNTIF(J11:J45,"Yes")+COUNTIF(J11:J45,"No"))),"-") -> - | L46: =IFERROR(AVERAGE(L11:L45),"-") -> - | M46: =IFERROR(AVERAGE(M11:M45),"-") -> - | N46: =IFERROR(AVERAGE(N11:N45),"-") -> - | P46: =IFERROR(AVERAGE(P11:P45),"-") -> - | Q46: =IFERROR(AVERAGE(Q11:Q45),"-") -> - | R46: =IFERROR(AVERAGE(R11:R45),"-") -> - | T46: =IFERROR(AVERAGE(T11:T45),"-") -> - | U46: =IFERROR(AVERAGE(U11:U45),"-") -> - | V46: =IFERROR(AVERAGE(V11:V45),"-") -> - | X46: =IFERROR(AVERAGE(X11:X45),"-") -> - | Y46: =IFERROR(AVERAGE(Y11:Y45),"-") -> - | Z46: =IFERROR(AVERAGE(Z11:Z45),"-") -> - | AB46: =IFERROR(AVERAGE(AB11:AB45),"-") -> - | AC46: =IFERROR(AVERAGE(AC11:AC45),"-") -> - | AD46: =IFERROR(AVERAGE(AD11:AD45),"-") -> - | AF46: =IFERROR(AVERAGE(AF11:AF45),"-") -> - | AG46: =IFERROR(AVERAGE(AG11:AG45),"-") -> - | AH46: =IFERROR(AVERAGE(AH11:AH45),"-") -> -

Sheet 2 Test
B2: Student Assessment Report
B3: IXL Diagnostic for Math
A5: TEACHER | C5: YEAR | E5: Class | H5: Math
E6: I.e 6th (Course 3) | H6: Aug | I6: Apr | J6: Prof.
A7: ?? | C7: ?? | E7: ? | H7: - | I7: - | J7: -
D9: Overall Math Level | L9: Numbers & Operations | P9: Algebra & Algebraic Thinking | T9: Fractions | X9: Geometry | AB9: Measurement | AF9: Data, Statics, & Probability
A10: STUDENT NAME | C10: Student # | D10: 1st | E10: 2nd | F10: 3rd | H10: % Apr | I10: % Gain | J10: Prof. | L10: 1st | M10: 2nd | N10: 3rd | P10: 1st | Q10: 2nd | R10: 3rd | T10: 1st | U10: 2nd | V10: 3rd | X10: 1st | Y10: 2nd | Z10: 3rd | AB10: 1st | AC10: 2nd | AD10: 3rd | AF10: 1st | AG10: 2nd | AH10: 3rd
A11: 1 | C11: - | D11: - | E11: - | F11: - | H11: =IFERROR((IF((MAX(D11:F11)/I$7)=0,"-",MAX(D11:F11)/I$7)),"-") -> - | I11: =IFERROR((IF((MAX(D11:F11)-D11)/D11=0,"-",MAX(D11:F11)-D11)/D11),"-") -> - | J11: =IFERROR(((IF((MAX(D11:F11)/J$7)=0,"-",IF(MAX(D11:F11)>=J$7,"Yes","No")))),"-") -> -
A12: 2 | C12: - | D12: - | E12: - | F12: - | H12: =IFERROR((IF((MAX(D12:F12)/I$7)=0,"-",MAX(D12:F12)/I$7)),"-") -> - | I12: =IFERROR((IF((MAX(D12:F12)-D12)/D12=0,"-",MAX(D12:F12)-D12)/D12),"-") -> - | J12: =IFERROR(((IF((MAX(D12:F12)/J$7)=0,"-",IF(MAX(D12:F12)>=J$7,"Yes","No")))),"-") -> -
A13: 3 | C13: - | D13: - | E13: - | F13: - | H13: =IFERROR((IF((MAX(D13:F13)/I$7)=0,"-",MAX(D13:F13)/I$7)),"-") -> - | I13: =IFERROR((IF((MAX(D13:F13)-D13)/D13=0,"-",MAX(D13:F13)-D13)/D13),"-") -> - | J13: =IFERROR(((IF((MAX(D13:F13)/J$7)=0,"-",IF(MAX(D13:F13)>=J$7,"Yes","No")))),"-") -> -
A14: 4 | C14: - | D14: - | E14: - | F14: - | H14: =IFERROR((IF((MAX(D14:F14)/I$7)=0,"-",MAX(D14:F14)/I$7)),"-") -> - | I14: =IFERROR((IF((MAX(D14:F14)-D14)/D14=0,"-",MAX(D14:F14)-D14)/D14),"-") -> - | J14: =IFERROR(((IF((MAX(D14:F14)/J$7)=0,"-",IF(MAX(D14:F14)>=J$7,"Yes","No")))),"-") -> -
A15: 5 | C15: - | D15: - | E15: - | F15: - | H15: =IFERROR((IF((MAX(D15:F15)/I$7)=0,"-",MAX(D15:F15)/I$7)),"-") -> - | I15: =IFERROR((IF((MAX(D15:F15)-D15)/D15=0,"-",MAX(D15:F15)-D15)/D15),"-") -> - | J15: =IFERROR(((IF((MAX(D15:F15)/J$7)=0,"-",IF(MAX(D15:F15)>=J$7,"Yes","No")))),"-") -> -
A16: 6 | C16: - | D16: - | E16: - | F16: - | H16: =IFERROR((IF((MAX(D16:F16)/I$7)=0,"-",MAX(D16:F16)/I$7)),"-") -> - | I16: =IFERROR((IF((MAX(D16:F16)-D16)/D16=0,"-",MAX(D16:F16)-D16)/D16),"-") -> - | J16: =IFERROR(((IF((MAX(D16:F16)/J$7)=0,"-",IF(MAX(D16:F16)>=J$7,"Yes","No")))),"-") -> -
A17: 7 | C17: - | D17: - | E17: - | F17: - | H17: =IFERROR((IF((MAX(D17:F17)/I$7)=0,"-",MAX(D17:F17)/I$7)),"-") -> - | I17: =IFERROR((IF((MAX(D17:F17)-D17)/D17=0,"-",MAX(D17:F17)-D17)/D17),"-") -> - | J17: =IFERROR(((IF((MAX(D17:F17)/J$7)=0,"-",IF(MAX(D17:F17)>=J$7,"Yes","No")))),"-") -> -
A18: 8 | C18: - | D18: - | E18: - | F18: - | H18: =IFERROR((IF((MAX(D18:F18)/I$7)=0,"-",MAX(D18:F18)/I$7)),"-") -> - | I18: =IFERROR((IF((MAX(D18:F18)-D18)/D18=0,"-",MAX(D18:F18)-D18)/D18),"-") -> - | J18: =IFERROR(((IF((MAX(D18:F18)/J$7)=0,"-",IF(MAX(D18:F18)>=J$7,"Yes","No")))),"-") -> -
A19: 9 | C19: - | D19: - | E19: - | F19: - | H19: =IFERROR((IF((MAX(D19:F19)/I$7)=0,"-",MAX(D19:F19)/I$7)),"-") -> - | I19: =IFERROR((IF((MAX(D19:F19)-D19)/D19=0,"-",MAX(D19:F19)-D19)/D19),"-") -> - | J19: =IFERROR(((IF((MAX(D19:F19)/J$7)=0,"-",IF(MAX(D19:F19)>=J$7,"Yes","No")))),"-") -> -
A20: 10 | C20: - | D20: - | E20: - | F20: - | H20: =IFERROR((IF((MAX(D20:F20)/I$7)=0,"-",MAX(D20:F20)/I$7)),"-") -> - | I20: =IFERROR((IF((MAX(D20:F20)-D20)/D20=0,"-",MAX(D20:F20)-D20)/D20),"-") -> - | J20: =IFERROR(((IF((MAX(D20:F20)/J$7)=0,"-",IF(MAX(D20:F20)>=J$7,"Yes","No")))),"-") -> -
A21: 11 | C21: - | D21: - | E21: - | F21: - | H21: =IFERROR((IF((MAX(D21:F21)/I$7)=0,"-",MAX(D21:F21)/I$7)),"-") -> - | I21: =IFERROR((IF((MAX(D21:F21)-D21)/D21=0,"-",MAX(D21:F21)-D21)/D21),"-") -> - | J21: =IFERROR(((IF((MAX(D21:F21)/J$7)=0,"-",IF(MAX(D21:F21)>=J$7,"Yes","No")))),"-") -> -
A22: 12 | C22: - | D22: - | E22: - | F22: - | H22: =IFERROR((IF((MAX(D22:F22)/I$7)=0,"-",MAX(D22:F22)/I$7)),"-") -> - | I22: =IFERROR((IF((MAX(D22:F22)-D22)/D22=0,"-",MAX(D22:F22)-D22)/D22),"-") -> - | J22: =IFERROR(((IF((MAX(D22:F22)/J$7)=0,"-",IF(MAX(D22:F22)>=J$7,"Yes","No")))),"-") -> -
... A45: 35 | C45: - | D45: - | E45: - | F45: - | H45: =IFERROR((IF((MAX(D45:F45)/I$7)=0,"-",MAX(D45:F45)/I$7)),"-") -> - | I45: =IFERROR((IF((MAX(D45:F45)-D45)/D45=0,"-",MAX(D45:F45)-D45)/D45),"-") -> - | J45: =IFERROR(((IF((MAX(D45:F45)/J$7)=0,"-",IF(MAX(D45:F45)>=J$7,"Yes","No")))),"-") -> -
A46: CLASS AVERAGES | D46: =IFERROR(AVERAGE(D11:D45),"-") -> - | E46: =IFERROR(AVERAGE(E11:E45),"-") -> - | F46: =IFERROR(AVERAGE(F11:F45),"-") -> - | H46: =IFERROR((IF((MAX(D46:F46)/I$7)=0,"-",MAX(D46:F46)/I$7)),"-") -> - | I46: =IFERROR((IF((MAX(D46:F46)-D46)/D46=0,"-",MAX(D46:F46)-D46)/D46),"-") -> - | J46: =IFERROR((COUNTIF(J11:J45,"Yes")/(COUNTIF(J11:J45,"Yes")+COUNTIF(J11:J45,"No"))),"-") -> - | L46: =IFERROR(AVERAGE(L11:L45),"-") -> - | M46: =IFERROR(AVERAGE(M11:M45),"-") -> - | N46: =IFERROR(AVERAGE(N11:N45),"-") -> - | P46: =IFERROR(AVERAGE(P11:P45),"-") -> - | Q46: =IFERROR(AVERAGE(Q11:Q45),"-") -> - | R46: =IFERROR(AVERAGE(R11:R45),"-") -> - | T46: =IFERROR(AVERAGE(T11:T45),"-") -> - | U46: =IFERROR(AVERAGE(U11:U45),"-") -> - | V46: =IFERROR(AVERAGE(V11:V45),"-") -> - | X46: =IFERROR(AVERAGE(X11:X45),"-") -> - | Y46: =IFERROR(AVERAGE(Y11:Y45),"-") -> - | Z46: =IFERROR(AVERAGE(Z11:Z45),"-") -> - | AB46: =IFERROR(AVERAGE(AB11:AB45),"-") -> - | AC46: =IFERROR(AVERAGE(AC11:AC45),"-") -> - | AD46: =IFERROR(AVERAGE(AD11:AD45),"-") -> - | AF46: =IFERROR(AVERAGE(AF11:AF45),"-") -> - | AG46: =IFERROR(AVERAGE(AG11:AG45),"-") -> - | AH46: =IFERROR(AVERAGE(AH11:AH45),"-") -> -

Sheet 3 Test
B2: Student Assessment Report
B3: IXL Diagnostic for Math
A5: TEACHER | C5: YEAR | E5: Class | H5: Math
E6: I.e 6th (Course 3) | H6: Aug | I6: Apr | J6: Prof.
A7: ?? | C7: ?? | E7: ? | H7: - | I7: - | J7: -
D9: Overall Math Level | L9: Numbers & Operations | P9: Algebra & Algebraic Thinking | T9: Fractions | X9: Geometry | AB9: Measurement | AF9: Data, Statics, & Probability
A10: STUDENT NAME | C10: Student # | D10: 1st | E10: 2nd | F10: 3rd | H10: % Apr | I10: % Gain | J10: Prof. | L10: 1st | M10: 2nd | N10: 3rd | P10: 1st | Q10: 2nd | R10: 3rd | T10: 1st | U10: 2nd | V10: 3rd | X10: 1st | Y10: 2nd | Z10: 3rd | AB10: 1st | AC10: 2nd | AD10: 3rd | AF10: 1st | AG10: 2nd | AH10: 3rd
A11: 1 | C11: - | D11: - | E11: - | F11: - | H11: =IFERROR((IF((MAX(D11:F11)/I$7)=0,"-",MAX(D11:F11)/I$7)),"-") -> - | I11: =IFERROR((IF((MAX(D11:F11)-D11)/D11=0,"-",MAX(D11:F11)-D11)/D11),"-") -> - | J11: =IFERROR(((IF((MAX(D11:F11)/J$7)=0,"-",IF(MAX(D11:F11)>=J$7,"Yes","No")))),"-") -> -
A12: 2 | C12: - | D12: - | E12: - | F12: - | H12: =IFERROR((IF((MAX(D12:F12)/I$7)=0,"-",MAX(D12:F12)/I$7)),"-") -> - | I12: =IFERROR((IF((MAX(D12:F12)-D12)/D12=0,"-",MAX(D12:F12)-D12)/D12),"-") -> - | J12: =IFERROR(((IF((MAX(D12:F12)/J$7)=0,"-",IF(MAX(D12:F12)>=J$7,"Yes","No")))),"-") -> -
A13: 3 | C13: - | D13: - | E13: - | F13: - | H13: =IFERROR((IF((MAX(D13:F13)/I$7)=0,"-",MAX(D13:F13)/I$7)),"-") -> - | I13: =IFERROR((IF((MAX(D13:F13)-D13)/D13=0,"-",MAX(D13:F13)-D13)/D13),"-") -> - | J13: =IFERROR(((IF((MAX(D13:F13)/J$7)=0,"-",IF(MAX(D13:F13)>=J$7,"Yes","No")))),"-") -> -
A14: 4 | C14: - | D14: - | E14: - | F14: - | H14: =IFERROR((IF((MAX(D14:F14)/I$7)=0,"-",MAX(D14:F14)/I$7)),"-") -> - | I14: =IFERROR((IF((MAX(D14:F14)-D14)/D14=0,"-",MAX(D14:F14)-D14)/D14),"-") -> - | J14: =IFERROR(((IF((MAX(D14:F14)/J$7)=0,"-",IF(MAX(D14:F14)>=J$7,"Yes","No")))),"-") -> -
A15: 5 | C15: - | D15: - | E15: - | F15: - | H15: =IFERROR((IF((MAX(D15:F15)/I$7)=0,"-",MAX(D15:F15)/I$7)),"-") -> - | I15: =IFERROR((IF((MAX(D15:F15)-D15)/D15=0,"-",MAX(D15:F15)-D15)/D15),"-") -> - | J15: =IFERROR(((IF((MAX(D15:F15)/J$7)=0,"-",IF(MAX(D15:F15)>=J$7,"Yes","No")))),"-") -> -
A16: 6 | C16: - | D16: - | E16: - | F16: - | H16: =IFERROR((IF((MAX(D16:F16)/I$7)=0,"-",MAX(D16:F16)/I$7)),"-") -> - | I16: =IFERROR((IF((MAX(D16:F16)-D16)/D16=0,"-",MAX(D16:F16)-D16)/D16),"-") -> - | J16: =IFERROR(((IF((MAX(D16:F16)/J$7)=0,"-",IF(MAX(D16:F16)>=J$7,"Yes","No")))),"-") -> -
A17: 7 | C17: - | D17: - | E17: - | F17: - | H17: =IFERROR((IF((MAX(D17:F17)/I$7)=0,"-",MAX(D17:F17)/I$7)),"-") -> - | I17: =IFERROR((IF((MAX(D17:F17)-D17)/D17=0,"-",MAX(D17:F17)-D17)/D17),"-") -> - | J17: =IFERROR(((IF((MAX(D17:F17)/J$7)=0,"-",IF(MAX(D17:F17)>=J$7,"Yes","No")))),"-") -> -
A18: 8 | C18: - | D18: - | E18: - | F18: - | H18: =IFERROR((IF((MAX(D18:F18)/I$7)=0,"-",MAX(D18:F18)/I$7)),"-") -> - | I18: =IFERROR((IF((MAX(D18:F18)-D18)/D18=0,"-",MAX(D18:F18)-D18)/D18),"-") -> - | J18: =IFERROR(((IF((MAX(D18:F18)/J$7)=0,"-",IF(MAX(D18:F18)>=J$7,"Yes","No")))),"-") -> -
A19: 9 | C19: - | D19: - | E19: - | F19: - | H19: =IFERROR((IF((MAX(D19:F19)/I$7)=0,"-",MAX(D19:F19)/I$7)),"-") -> - | I19: =IFERROR((IF((MAX(D19:F19)-D19)/D19=0,"-",MAX(D19:F19)-D19)/D19),"-") -> - | J19: =IFERROR(((IF((MAX(D19:F19)/J$7)=0,"-",IF(MAX(D19:F19)>=J$7,"Yes","No")))),"-") -> -
A20: 10 | C20: - | D20: - | E20: - | F20: - | H20: =IFERROR((IF((MAX(D20:F20)/I$7)=0,"-",MAX(D20:F20)/I$7)),"-") -> - | I20: =IFERROR((IF((MAX(D20:F20)-D20)/D20=0,"-",MAX(D20:F20)-D20)/D20),"-") -> - | J20: =IFERROR(((IF((MAX(D20:F20)/J$7)=0,"-",IF(MAX(D20:F20)>=J$7,"Yes","No")))),"-") -> -
A21: 11 | C21: - | D21: - | E21: - | F21: - | H21: =IFERROR((IF((MAX(D21:F21)/I$7)=0,"-",MAX(D21:F21)/I$7)),"-") -> - | I21: =IFERROR((IF((MAX(D21:F21)-D21)/D21=0,"-",MAX(D21:F21)-D21)/D21),"-") -> - | J21: =IFERROR(((IF((MAX(D21:F21)/J$7)=0,"-",IF(MAX(D21:F21)>=J$7,"Yes","No")))),"-") -> -
A22: 12 | C22: - | D22: - | E22: - | F22: - | H22: =IFERROR((IF((MAX(D22:F22)/I$7)=0,"-",MAX(D22:F22)/I$7)),"-") -> - | I22: =IFERROR((IF((MAX(D22:F22)-D22)/D22=0,"-",MAX(D22:F22)-D22)/D22),"-") -> - | J22: =IFERROR(((IF((MAX(D22:F22)/J$7)=0,"-",IF(MAX(D22:F22)>=J$7,"Yes","No")))),"-") -> -
... A45: 35 | C45: - | D45: - | E45: - | F45: - | H45: =IFERROR((IF((MAX(D45:F45)/I$7)=0,"-",MAX(D45:F45)/I$7)),"-") -> - | I45: =IFERROR((IF((MAX(D45:F45)-D45)/D45=0,"-",MAX(D45:F45)-D45)/D45),"-") -> - | J45: =IFERROR(((IF((MAX(D45:F45)/J$7)=0,"-",IF(MAX(D45:F45)>=J$7,"Yes","No")))),"-") -> -
A46: CLASS AVERAGES | D46: =IFERROR(AVERAGE(D11:D45),"-") -> - | E46: =IFERROR(AVERAGE(E11:E45),"-") -> - | F46: =IFERROR(AVERAGE(F11:F45),"-") -> - | H46: =IFERROR((IF((MAX(D46:F46)/I$7)=0,"-",MAX(D46:F46)/I$7)),"-") -> - | I46: =IFERROR((IF((MAX(D46:F46)-D46)/D46=0,"-",MAX(D46:F46)-D46)/D46),"-") -> - | J46: =IFERROR((COUNTIF(J11:J45,"Yes")/(COUNTIF(J11:J45,"Yes")+COUNTIF(J11:J45,"No"))),"-") -> - | L46: =IFERROR(AVERAGE(L11:L45),"-") -> - | M46: =IFERROR(AVERAGE(M11:M45),"-") -> - | N46: =IFERROR(AVERAGE(N11:N45),"-") -> - | P46: =IFERROR(AVERAGE(P11:P45),"-") -> - | Q46: =IFERROR(AVERAGE(Q11:Q45),"-") -> - | R46: =IFERROR(AVERAGE(R11:R45),"-") -> - | T46: =IFERROR(AVERAGE(T11:T45),"-") -> - | U46: =IFERROR(AVERAGE(U11:U45),"-") -> - | V46: =IFERROR(AVERAGE(V11:V45),"-") -> - | X46: =IFERROR(AVERAGE(X11:X45),"-") -> - | Y46: =IFERROR(AVERAGE(Y11:Y45),"-") -> - | Z46: =IFERROR(AVERAGE(Z11:Z45),"-") -> - | AB46: =IFERROR(AVERAGE(AB11:AB45),"-") -> - | AC46: =IFERROR(AVERAGE(AC11:AC45),"-") -> - | AD46: =IFERROR(AVERAGE(AD11:AD45),"-") -> - | AF46: =IFERROR(AVERAGE(AF11:AF45),"-") -> - | AG46: =IFERROR(AVERAGE(AG11:AG45),"-") -> - | AH46: =IFERROR(AVERAGE(AH11:AH45),"-") -> -

Sheet 4 Test
B2: Student Assessment Report
B3: IXL Diagnostic for Math
A5: TEACHER | C5: YEAR | E5: Class | H5: Math
E6: I.e 6th (Course 3) | H6: Aug | I6: Apr | J6: Prof.
A7: ?? | C7: ?? | E7: ? | H7: - | I7: - | J7: -
D9: Overall Math Level | L9: Numbers & Operations | P9: Algebra & Algebraic Thinking | T9: Fractions | X9: Geometry | AB9: Measurement | AF9: Data, Statics, & Probability
A10: STUDENT NAME | C10: Student # | D10: 1st | E10: 2nd | F10: 3rd | H10: % Apr | I10: % Gain | J10: Prof. | L10: 1st | M10: 2nd | N10: 3rd | P10: 1st | Q10: 2nd | R10: 3rd | T10: 1st | U10: 2nd | V10: 3rd | X10: 1st | Y10: 2nd | Z10: 3rd | AB10: 1st | AC10: 2nd | AD10: 3rd | AF10: 1st | AG10: 2nd | AH10: 3rd
A11: 1 | C11: - | D11: - | E11: - | F11: - | H11: =IFERROR((IF((MAX(D11:F11)/I$7)=0,"-",MAX(D11:F11)/I$7)),"-") -> - | I11: =IFERROR((IF((MAX(D11:F11)-D11)/D11=0,"-",MAX(D11:F11)-D11)/D11),"-") -> - | J11: =IFERROR(((IF((MAX(D11:F11)/J$7)=0,"-",IF(MAX(D11:F11)>=J$7,"Yes","No")))),"-") -> -
A12: 2 | C12: - | D12: - | E12: - | F12: - | H12: =IFERROR((IF((MAX(D12:F12)/I$7)=0,"-",MAX(D12:F12)/I$7)),"-") -> - | I12: =IFERROR((IF((MAX(D12:F12)-D12)/D12=0,"-",MAX(D12:F12)-D12)/D12),"-") -> - | J12: =IFERROR(((IF((MAX(D12:F12)/J$7)=0,"-",IF(MAX(D12:F12)>=J$7,"Yes","No")))),"-") -> -
A13: 3 | C13: - | D13: - | E13: - | F13: - | H13: =IFERROR((IF((MAX(D13:F13)/I$7)=0,"-",MAX(D13:F13)/I$7)),"-") -> - | I13: =IFERROR((IF((MAX(D13:F13)-D13)/D13=0,"-",MAX(D13:F13)-D13)/D13),"-") -> - | J13: =IFERROR(((IF((MAX(D13:F13)/J$7)=0,"-",IF(MAX(D13:F13)>=J$7,"Yes","No")))),"-") -> -
A14: 4 | C14: - | D14: - | E14: - | F14: - | H14: =IFERROR((IF((MAX(D14:F14)/I$7)=0,"-",MAX(D14:F14)/I$7)),"-") -> - | I14: =IFERROR((IF((MAX(D14:F14)-D14)/D14=0,"-",MAX(D14:F14)-D14)/D14),"-") -> - | J14: =IFERROR(((IF((MAX(D14:F14)/J$7)=0,"-",IF(MAX(D14:F14)>=J$7,"Yes","No")))),"-") -> -
A15: 5 | C15: - | D15: - | E15: - | F15: - | H15: =IFERROR((IF((MAX(D15:F15)/I$7)=0,"-",MAX(D15:F15)/I$7)),"-") -> - | I15: =IFERROR((IF((MAX(D15:F15)-D15)/D15=0,"-",MAX(D15:F15)-D15)/D15),"-") -> - | J15: =IFERROR(((IF((MAX(D15:F15)/J$7)=0,"-",IF(MAX(D15:F15)>=J$7,"Yes","No")))),"-") -> -
A16: 6 | C16: - | D16: - | E16: - | F16: - | H16: =IFERROR((IF((MAX(D16:F16)/I$7)=0,"-",MAX(D16:F16)/I$7)),"-") -> - | I16: =IFERROR((IF((MAX(D16:F16)-D16)/D16=0,"-",MAX(D16:F16)-D16)/D16),"-") -> - | J16: =IFERROR(((IF((MAX(D16:F16)/J$7)=0,"-",IF(MAX(D16:F16)>=J$7,"Yes","No")))),"-") -> -
A17: 7 | C17: - | D17: - | E17: - | F17: - | H17: =IFERROR((IF((MAX(D17:F17)/I$7)=0,"-",MAX(D17:F17)/I$7)),"-") -> - | I17: =IFERROR((IF((MAX(D17:F17)-D17)/D17=0,"-",MAX(D17:F17)-D17)/D17),"-") -> - | J17: =IFERROR(((IF((MAX(D17:F17)/J$7)=0,"-",IF(MAX(D17:F17)>=J$7,"Yes","No")))),"-") -> -
A18: 8 | C18: - | D18: - | E18: - | F18: - | H18: =IFERROR((IF((MAX(D18:F18)/I$7)=0,"-",MAX(D18:F18)/I$7)),"-") -> - | I18: =IFERROR((IF((MAX(D18:F18)-D18)/D18=0,"-",MAX(D18:F18)-D18)/D18),"-") -> - | J18: =IFERROR(((IF((MAX(D18:F18)/J$7)=0,"-",IF(MAX(D18:F18)>=J$7,"Yes","No")))),"-") -> -
A19: 9 | C19: - | D19: - | E19: - | F19: - | H19: =IFERROR((IF((MAX(D19:F19)/I$7)=0,"-",MAX(D19:F19)/I$7)),"-") -> - | I19: =IFERROR((IF((MAX(D19:F19)-D19)/D19=0,"-",MAX(D19:F19)-D19)/D19),"-") -> - | J19: =IFERROR(((IF((MAX(D19:F19)/J$7)=0,"-",IF(MAX(D19:F19)>=J$7,"Yes","No")))),"-") -> -
A20: 10 | C20: - | D20: - | E20: - | F20: - | H20: =IFERROR((IF((MAX(D20:F20)/I$7)=0,"-",MAX(D20:F20)/I$7)),"-") -> - | I20: =IFERROR((IF((MAX(D20:F20)-D20)/D20=0,"-",MAX(D20:F20)-D20)/D20),"-") -> - | J20: =IFERROR(((IF((MAX(D20:F20)/J$7)=0,"-",IF(MAX(D20:F20)>=J$7,"Yes","No")))),"-") -> -
A21: 11 | C21: - | D21: - | E21: - | F21: - | H21: =IFERROR((IF((MAX(D21:F21)/I$7)=0,"-",MAX(D21:F21)/I$7)),"-") -> - | I21: =IFERROR((IF((MAX(D21:F21)-D21)/D21=0,"-",MAX(D21:F21)-D21)/D21),"-") -> - | J21: =IFERROR(((IF((MAX(D21:F21)/J$7)=0,"-",IF(MAX(D21:F21)>=J$7,"Yes","No")))),"-") -> -
A22: 12 | C22: - | D22: - | E22: - | F22: - | H22: =IFERROR((IF((MAX(D22:F22)/I$7)=0,"-",MAX(D22:F22)/I$7)),"-") -> - | I22: =IFERROR((IF((MAX(D22:F22)-D22)/D22=0,"-",MAX(D22:F22)-D22)/D22),"-") -> - | J22: =IFERROR(((IF((MAX(D22:F22)/J$7)=0,"-",IF(MAX(D22:F22)>=J$7,"Yes","No")))),"-") -> -
... A45: 35 | C45: - | D45: - | E45: - | F45: - | H45: =IFERROR((IF((MAX(D45:F45)/I$7)=0,"-",MAX(D45:F45)/I$7)),"-") -> - | I45: =IFERROR((IF((MAX(D45:F45)-D45)/D45=0,"-",MAX(D45:F45)-D45)/D45),"-") -> - | J45: =IFERROR(((IF((MAX(D45:F45)/J$7)=0,"-",IF(MAX(D45:F45)>=J$7,"Yes","No")))),"-") -> -
A46: CLASS AVERAGES | D46: =IFERROR(AVERAGE(D11:D45),"-") -> - | E46: =IFERROR(AVERAGE(E11:E45),"-") -> - | F46: =IFERROR(AVERAGE(F11:F45),"-") -> - | H46: =IFERROR((IF((MAX(D46:F46)/I$7)=0,"-",MAX(D46:F46)/I$7)),"-") -> - | I46: =IFERROR((IF((MAX(D46:F46)-D46)/D46=0,"-",MAX(D46:F46)-D46)/D46),"-") -> - | J46: =IFERROR((COUNTIF(J11:J45,"Yes")/(COUNTIF(J11:J45,"Yes")+COUNTIF(J11:J45,"No"))),"-") -> - | L46: =IFERROR(AVERAGE(L11:L45),"-") -> - | M46: =IFERROR(AVERAGE(M11:M45),"-") -> - | N46: =IFERROR(AVERAGE(N11:N45),"-") -> - | P46: =IFERROR(AVERAGE(P11:P45),"-") -> - | Q46: =IFERROR(AVERAGE(Q11:Q45),"-") -> - | R46: =IFERROR(AVERAGE(R11:R45),"-") -> - | T46: =IFERROR(AVERAGE(T11:T45),"-") -> - | U46: =IFERROR(AVERAGE(U11:U45),"-") -> - | V46: =IFERROR(AVERAGE(V11:V45),"-") -> - | X46: =IFERROR(AVERAGE(X11:X45),"-") -> - | Y46: =IFERROR(AVERAGE(Y11:Y45),"-") -> - | Z46: =IFERROR(AVERAGE(Z11:Z45),"-") -> - | AB46: =IFERROR(AVERAGE(AB11:AB45),"-") -> - | AC46: =IFERROR(AVERAGE(AC11:AC45),"-") -> - | AD46: =IFERROR(AVERAGE(AD11:AD45),"-") -> - | AF46: =IFERROR(AVERAGE(AF11:AF45),"-") -> - | AG46: =IFERROR(AVERAGE(AG11:AG45),"-") -> - | AH46: =IFERROR(AVERAGE(AH11:AH45),"-") -> -

Sheet 5 Test
B2: Student Assessment Report
B3: IXL Diagnostic for Math
A5: TEACHER | C5: YEAR | E5: Class | H5: Math
E6: I.e 6th (Course 3) | H6: Aug | I6: Apr | J6: Prof.
A7: ?? | C7: ?? | E7: ? | H7: - | I7: - | J7: -
D9: Overall Math Level | L9: Numbers & Operations | P9: Algebra & Algebraic Thinking | T9: Fractions | X9: Geometry | AB9: Measurement | AF9: Data, Statics, & Probability
A10: STUDENT NAME | C10: Student # | D10: 1st | E10: 2nd | F10: 3rd | H10: % Apr | I10: % Gain | J10: Prof. | L10: 1st | M10: 2nd | N10: 3rd | P10: 1st | Q10: 2nd | R10: 3rd | T10: 1st | U10: 2nd | V10: 3rd | X10: 1st | Y10: 2nd | Z10: 3rd | AB10: 1st | AC10: 2nd | AD10: 3rd | AF10: 1st | AG10: 2nd | AH10: 3rd
A11: 1 | C11: - | D11: - | E11: - | F11: - | H11: =IFERROR((IF((MAX(D11:F11)/I$7)=0,"-",MAX(D11:F11)/I$7)),"-") -> - | I11: =IFERROR((IF((MAX(D11:F11)-D11)/D11=0,"-",MAX(D11:F11)-D11)/D11),"-") -> - | J11: =IFERROR(((IF((MAX(D11:F11)/J$7)=0,"-",IF(MAX(D11:F11)>=J$7,"Yes","No")))),"-") -> -
A12: 2 | C12: - | D12: - | E12: - | F12: - | H12: =IFERROR((IF((MAX(D12:F12)/I$7)=0,"-",MAX(D12:F12)/I$7)),"-") -> - | I12: =IFERROR((IF((MAX(D12:F12)-D12)/D12=0,"-",MAX(D12:F12)-D12)/D12),"-") -> - | J12: =IFERROR(((IF((MAX(D12:F12)/J$7)=0,"-",IF(MAX(D12:F12)>=J$7,"Yes","No")))),"-") -> -
A13: 3 | C13: - | D13: - | E13: - | F13: - | H13: =IFERROR((IF((MAX(D13:F13)/I$7)=0,"-",MAX(D13:F13)/I$7)),"-") -> - | I13: =IFERROR((IF((MAX(D13:F13)-D13)/D13=0,"-",MAX(D13:F13)-D13)/D13),"-") -> - | J13: =IFERROR(((IF((MAX(D13:F13)/J$7)=0,"-",IF(MAX(D13:F13)>=J$7,"Yes","No")))),"-") -> -
A14: 4 | C14: - | D14: - | E14: - | F14: - | H14: =IFERROR((IF((MAX(D14:F14)/I$7)=0,"-",MAX(D14:F14)/I$7)),"-") -> - | I14: =IFERROR((IF((MAX(D14:F14)-D14)/D14=0,"-",MAX(D14:F14)-D14)/D14),"-") -> - | J14: =IFERROR(((IF((MAX(D14:F14)/J$7)=0,"-",IF(MAX(D14:F14)>=J$7,"Yes","No")))),"-") -> -
A15: 5 | C15: - | D15: - | E15: - | F15: - | H15: =IFERROR((IF((MAX(D15:F15)/I$7)=0,"-",MAX(D15:F15)/I$7)),"-") -> - | I15: =IFERROR((IF((MAX(D15:F15)-D15)/D15=0,"-",MAX(D15:F15)-D15)/D15),"-") -> - | J15: =IFERROR(((IF((MAX(D15:F15)/J$7)=0,"-",IF(MAX(D15:F15)>=J$7,"Yes","No")))),"-") -> -
A16: 6 | C16: - | D16: - | E16: - | F16: - | H16: =IFERROR((IF((MAX(D16:F16)/I$7)=0,"-",MAX(D16:F16)/I$7)),"-") -> - | I16: =IFERROR((IF((MAX(D16:F16)-D16)/D16=0,"-",MAX(D16:F16)-D16)/D16),"-") -> - | J16: =IFERROR(((IF((MAX(D16:F16)/J$7)=0,"-",IF(MAX(D16:F16)>=J$7,"Yes","No")))),"-") -> -
A17: 7 | C17: - | D17: - | E17: - | F17: - | H17: =IFERROR((IF((MAX(D17:F17)/I$7)=0,"-",MAX(D17:F17)/I$7)),"-") -> - | I17: =IFERROR((IF((MAX(D17:F17)-D17)/D17=0,"-",MAX(D17:F17)-D17)/D17),"-") -> - | J17: =IFERROR(((IF((MAX(D17:F17)/J$7)=0,"-",IF(MAX(D17:F17)>=J$7,"Yes","No")))),"-") -> -
A18: 8 | C18: - | D18: - | E18: - | F18: - | H18: =IFERROR((IF((MAX(D18:F18)/I$7)=0,"-",MAX(D18:F18)/I$7)),"-") -> - | I18: =IFERROR((IF((MAX(D18:F18)-D18)/D18=0,"-",MAX(D18:F18)-D18)/D18),"-") -> - | J18: =IFERROR(((IF((MAX(D18:F18)/J$7)=0,"-",IF(MAX(D18:F18)>=J$7,"Yes","No")))),"-") -> -
A19: 9 | C19: - | D19: - | E19: - | F19: - | H19: =IFERROR((IF((MAX(D19:F19)/I$7)=0,"-",MAX(D19:F19)/I$7)),"-") -> - | I19: =IFERROR((IF((MAX(D19:F19)-D19)/D19=0,"-",MAX(D19:F19)-D19)/D19),"-") -> - | J19: =IFERROR(((IF((MAX(D19:F19)/J$7)=0,"-",IF(MAX(D19:F19)>=J$7,"Yes","No")))),"-") -> -
A20: 10 | C20: - | D20: - | E20: - | F20: - | H20: =IFERROR((IF((MAX(D20:F20)/I$7)=0,"-",MAX(D20:F20)/I$7)),"-") -> - | I20: =IFERROR((IF((MAX(D20:F20)-D20)/D20=0,"-",MAX(D20:F20)-D20)/D20),"-") -> - | J20: =IFERROR(((IF((MAX(D20:F20)/J$7)=0,"-",IF(MAX(D20:F20)>=J$7,"Yes","No")))),"-") -> -
A21: 11 | C21: - | D21: - | E21: - | F21: - | H21: =IFERROR((IF((MAX(D21:F21)/I$7)=0,"-",MAX(D21:F21)/I$7)),"-") -> - | I21: =IFERROR((IF((MAX(D21:F21)-D21)/D21=0,"-",MAX(D21:F21)-D21)/D21),"-") -> - | J21: =IFERROR(((IF((MAX(D21:F21)/J$7)=0,"-",IF(MAX(D21:F21)>=J$7,"Yes","No")))),"-") -> -
A22: 12 | C22: - | D22: - | E22: - | F22: - | H22: =IFERROR((IF((MAX(D22:F22)/I$7)=0,"-",MAX(D22:F22)/I$7)),"-") -> - | I22: =IFERROR((IF((MAX(D22:F22)-D22)/D22=0,"-",MAX(D22:F22)-D22)/D22),"-") -> - | J22: =IFERROR(((IF((MAX(D22:F22)/J$7)=0,"-",IF(MAX(D22:F22)>=J$7,"Yes","No")))),"-") -> -
... A45: 35 | C45: - | D45: - | E45: - | F45: - | H45: =IFERROR((IF((MAX(D45:F45)/I$7)=0,"-",MAX(D45:F45)/I$7)),"-") -> - | I45: =IFERROR((IF((MAX(D45:F45)-D45)/D45=0,"-",MAX(D45:F45)-D45)/D45),"-") -> - | J45: =IFERROR(((IF((MAX(D45:F45)/J$7)=0,"-",IF(MAX(D45:F45)>=J$7,"Yes","No")))),"-") -> -
A46: CLASS AVERAGES | D46: =IFERROR(AVERAGE(D11:D45),"-") -> - | E46: =IFERROR(AVERAGE(E11:E45),"-") -> - | F46: =IFERROR(AVERAGE(F11:F45),"-") -> - | H46: =IFERROR((IF((MAX(D46:F46)/I$7)=0,"-",MAX(D46:F46)/I$7)),"-") -> - | I46: =IFERROR((IF((MAX(D46:F46)-D46)/D46=0,"-",MAX(D46:F46)-D46)/D46),"-") -> - | J46: =IFERROR((COUNTIF(J11:J45,"Yes")/(COUNTIF(J11:J45,"Yes")+COUNTIF(J11:J45,"No"))),"-") -> - | L46: =IFERROR(AVERAGE(L11:L45),"-") -> - | M46: =IFERROR(AVERAGE(M11:M45),"-") -> - | N46: =IFERROR(AVERAGE(N11:N45),"-") -> - | P46: =IFERROR(AVERAGE(P11:P45),"-") -> - | Q46: =IFERROR(AVERAGE(Q11:Q45),"-") -> - | R46: =IFERROR(AVERAGE(R11:R45),"-") -> - | T46: =IFERROR(AVERAGE(T11:T45),"-") -> - | U46: =IFERROR(AVERAGE(U11:U45),"-") -> - | V46: =IFERROR(AVERAGE(V11:V45),"-") -> - | X46: =IFERROR(AVERAGE(X11:X45),"-") -> - | Y46: =IFERROR(AVERAGE(Y11:Y45),"-") -> - | Z46: =IFERROR(AVERAGE(Z11:Z45),"-") -> - | AB46: =IFERROR(AVERAGE(AB11:AB45),"-") -> - | AC46: =IFERROR(AVERAGE(AC11:AC45),"-") -> - | AD46: =IFERROR(AVERAGE(AD11:AD45),"-") -> - | AF46: =IFERROR(AVERAGE(AF11:AF45),"-") -> - | AG46: =IFERROR(AVERAGE(AG11:AG45),"-") -> - | AH46: =IFERROR(AVERAGE(AH11:AH45),"-") -> -

Sheet DON'T CLICK HERE
A1: PLEASE DO NOT DO ANYTHING WITH THIS PAGE. IT'S PURPOSE IS TO FACILITATE THE MAKING OF THE SCHOOL-WIDE ACCUMULATIVE REPORT. THANK YOU.
A3: Scholastic Assessment
A4: CLASS | B4: Size | C4: 1st | D4: 2nd | E4: 3rd | F4: % Apr Ave | G4: % Gain | H4: E of Y Prof
A5: ='1 Test'!E7 -> ? | B5: =Scores!U11 -> 1 | C5: =Scores!B19 -> - | D5: =Scores!C19 -> - | E5: =Scores!D19 -> - | F5: =Scores!E19 -> - | G5: =Scores!F19 -> - | H5: =Scores!G19 -> -
A6: ='2 Test'!E7 -> ? | B6: =Scores!U12 -> 1 | C6: =Scores!B20 -> - | D6: =Scores!C20 -> - | E6: =Scores!D20 -> - | F6: =Scores!E20 -> - | G6: =Scores!F20 -> - | H6: =Scores!G20 -> -
A7: ='3 Test'!E7 -> ? | B7: =Scores!U13 -> 1 | C7: =Scores!B21 -> - | D7: =Scores!C21 -> - | E7: =Scores!D21 -> - | F7: =Scores!E21 -> - | G7: =Scores!F21 -> - | H7: =Scores!G21 -> -
A8: ='4 Test'!E7 -> ? | B8: =Scores!U14 -> 1 | C8: =Scores!B22 -> - | D8: =Scores!C22 -> - | E8: =Scores!D22 -> - | F8: =Scores!E22 -> - | G8: =Scores!F22 -> - | H8: =Scores!G22 -> -
A9: ='5 Test'!E7 -> ? | B9: =Scores!U15 -> 1 | C9: =Scores!B23 -> - | D9: =Scores!C23 -> - | E9: =Scores!D23 -> - | F9: =Scores!E23 -> - | G9: =Scores!F23 -> - | H9: =Scores!G23 -> -

Sheet DON'T CLICK
A1: Lastname | B1: Firstname | C1: StudentID | D1: StateID | E1: Birthdate | F1: SchoolID | G1: GradeLevel | H1: IXL Math | I1: IXL Reading
A2: =RIGHT(#REF!,SEARCH(" ",#REF!)-0) -> #REF! | B2: =LEFT(#REF!,SEARCH(" ",#REF!)-1) -> #REF! | C2: =#REF! -> #REF! | D2: =#REF! -> #REF! | H2: =IF(#REF!="Math",MAX(#REF!),"-") -> #REF! | I2: =IF(#REF!="Reading",MAX(#REF!),"-") -> #REF!
