Workbook

Sheet Instructions
A2: Student Assessment Report Instructions Page
A4: Category | B4: Item | C4: Instructions
A5: Getting Started | B5: 1 | C5: Save this workbook to you computer. Click 'File' in the top left corner, then 'save as' and select a location. Name this workbook with your name and grade level. Example - "Larsen 2, Assessment Report"
B6: 2 | C6: Complete the 'Class Info.' sheet. All information needs to be complete. This information will automatically copy throughout the workbook. The School number for North is 94-100, for South it is 94-110.
B7: 3 | C7: Copy and Paste (or enter) the information (Aug, Apr, CUT) from the 'TECS Ave' sheet to the cells (found in the top right corner) in ALL of the corresponding sheets.
B8: 4
A10: Entering Scores | B10: 1 | C10: Once a test has been given, is graded, and is ready to enter, click on the corresponding page. Find the appropriate column and enter the score for the corresponding student. Class and student averages, gains, and proficiency will automatically calculate.
B11: 2 | C11: For subtraction and multiplication, enter all minus scores on the second page. Percentages will automatically calculate and be displayed on the first page. Thus, you won't ever write anything on the first page. In fact, you can't; that page is blocked and won't let you.
A13: Reading Scores and Graphs | B13: 1 | C13: The "% Apr Ave" column shows the max score divided by the April average. If the max score exceeds the April average, this number will be above 100% (and vise versa).
B14: 2 | C14: All assessments except "HW" have a "% Gain" column. This shows how much students progressed from August to their highest yearly score.
B15: 3 | C15: All assessments have a "E of Y Prof" column. This identifies if a student has scored at or above the grade level proficiency cut. The class averages calculate the percentage of proficient students.
B16: 4 | C16: See your class's growth in graph form on the "Scores" page.
B17: 5 | C17: In order for the student pages to be accurate, each student should be numbered identically on each corresponding test. For example, if Eldon Budge is the 3rd student on "70" he should be 3rd on all of the other sheets as well. If you only use the Class Info. sheet, this should happen automatically.
A19: Adding / Deleting Students Mid-Year | B19: 1 | C19: If a student leaves the school mid-year, leave the student there.
B20: 2 | C20: If a student moves in mid-year, add their name to the next available line on the "Class Info." page. No, it won't be alphabetized, but moving the names around will mess up the student profiles.
B21: 3 | C21: In order to see a growth score for new students, enter in their first score in the August column. For example, Johnny moved in for the January test, I would enter his score in twice, once in January and once in August.
A23: Printing | B23: 1 | C23: To print a page, select the page, click the File tab in the top left corner, and print. It may be helpful to scale the sheet.
B24: 2 | C24: Again, do not refer to the individual student pages unless all student names are on the same line for all assessments.
B25: 3 | C25: To print all of the student pages, click page "1," then hold the shift key and click page "30" (Use navigation arrows at the bottom left of the screen.). This will highlight all of the student pages. Then click the office icon, then print. Make sure "all" is selected in the "Print Range" section as well as "active sheet(s)" in the "Print What" section. This will print all student pages.
B26: 4 | C26: On the "Sub" and "Mult" pages, you will usually only ever need to print the first page with the percentages. You can do this one of two ways. Either click and highlight the first page and print having clicked the "selection" button in the "Print What" section, or simply click print and then "pages" and "from 1 to 1."
A28: Frequently Asked Questions | B28: 1 | C28: Why are there dashes in all the empty boxes? This prevents calculations from factoring in empty boxes as zeros. Please don't delete the dashes, as doing so will skew scores.
B29: 2 | C29: Why can't I change or even click on some cells? The reason is because you shouldn't be changing those cells anyway. Most sheets in the workbook are password protected, thus prohibiting anyone from changing anything that shouldn't be changed. The cells left unprotected are for you to change student names and student scores. If for some reason you feel you need the password to unprotect a page, ask Brad for help. The password is "a". The easiest way to mess anything up in the workbook is by cutting and/or copying/pasting. This will sometimes rearrange formulas that shouldn't be rearranged. It should be very rare that copy/pasting should be required.
B30: 3 | C30: Who should report the scores of special education students? The classroom teacher. Elementary special ed teachers should communicate scores to the classroom teacher promptly.
B31: 4 | C31: How much time should classes have for subtraction and Multiplication tests? In the Teacher Handbook it gives the following. Subtraction times: 2nd grade - 10 minutes; 3rd grade - 8 minutes; 4th & 5th grades - 6 minutes, 30 seconds. Multiplcation times: 3rd through 5th grades - 5 minutes
B32: 5 | C32: What's up with the last pages called "Don't Click Here"? "Don't Click Here" is a page that facilitates Brad's job in making the school file. The second page is to upload information to Multiple Measures.

Sheet TECS Ave
B2: Student Assessment Report
B3: Thomas Edison Averages
B5: 70 Phono | E5: Spelling | H5: Words Per Min | K5: Reading - IXL | N5: ELA- IXL | Q5: Math - IXL | T5: Subtraction | W5: Multiplication | Z5: Homework
B6: Aug | C6: Apr | D6: CUT | E6: Aug | F6: Apr | G6: CUT | H6: Aug | I6: Apr | J6: CUT | K6: Aug | L6: Apr | M6: CUT | N6: Aug | O6: Apr | P6: CUT | Q6: Aug | R6: Apr | S6: CUT | T6: Aug | U6: Apr | V6: CUT | W6: Aug | X6: Apr | Y6: CUT | Z6: Ave | AA6: CUT
A7: First | B7: 25.148 | C7: 60.988 | D7: 60 | E7: 1.688 | F7: 3.428 | G7: 1.9 | H7: - | I7: - | J7: - | K7: - | L7: - | M7: - | N7: - | O7: - | P7: - | Q7: - | R7: - | S7: - | T7: - | U7: - | V7: - | W7: - | X7: - | Y7: - | Z7: 92.548 | AA7: 0.9
A8: Second | B8: 42.356 | C8: 62.896 | D8: 63 | E8: 3.096 | F8: 4.448 | G8: 2.9 | H8: 64.5 | I8: 107.2 | J8: 89 | K8: - | L8: - | M8: 300 | N8: - | O8: - | P8: - | Q8: - | R8: - | S8: 300 | T8: 0.17096 | U8: 0.38584 | V8: 0.2 | W8: - | X8: - | Y8: - | Z8: 87.031 | AA8: 0.9
A9: Third | B9: 52.068 | C9: 64.516 | D9: 63 | E9: 4.14 | F9: 5.876 | G9: 3.9 | H9: 94.2 | I9: 123.55 | J9: 107 | K9: 280 | L9: 407.66667 | M9: 400 | N9: - | O9: - | P9: - | Q9: 276.17 | R9: 406.02 | S9: 400 | T9: 0.27496 | U9: 0.53828 | V9: 0.35 | W9: 0.20996 | X9: 0.53416 | Y9: 0.3 | Z9: 90.576 | AA9: 0.9
A10: Fourth | B10: 55.368 | C10: 65.004 | D10: 63 | E10: 5.132 | F10: 6.884 | G10: 4.9 | H10: 99.05 | I10: 124.1 | J10: 123 | K10: 416.6 | L10: 481.46667 | M10: 500 | N10: 398 | O10: 499 | P10: 500 | Q10: 386.62 | R10: 467.17333 | S10: 500 | T10: 0.32548 | U10: 0.53944 | V10: 0.5 | W10: 0.35184 | X10: 0.661 | Y10: 0.5 | Z10: 86.336 | AA10: 0.9
A11: Fifth | B11: - | C11: - | D11: - | E11: 6.224 | F11: 8.232 | G11: 5.9 | H11: 117.45 | I11: 141 | J11: 139 | K11: 493.9 | L11: 605.93333 | M11: 600 | N11: 482 | O11: 620 | P11: 600 | Q11: 456.64 | R11: 602.28667 | S11: 600 | T11: 0.49032 | U11: 0.71912 | V11: 0.6 | W11: 0.52536 | X11: 0.7838 | Y11: 0.65 | Z11: 92.58 | AA11: 0.9
A12: Six | B12: - | C12: - | D12: - | E12: - | F12: - | G12: - | H12: - | I12: - | J12: - | K12: 654.4 | L12: 717.26667 | M12: 700 | N12: - | O12: - | P12: 700 | Q12: 532.79 | R12: 680.47333 | S12: 700 | T12: - | U12: - | V12: - | W12: - | X12: - | Y12: -
A13: Seventh | B13: - | C13: - | D13: - | E13: - | F13: - | G13: - | H13: - | I13: - | J13: - | K13: 699.6 | L13: 794.8 | M13: 800 | N13: - | O13: - | P13: 800 | Q13: 508.58 | R13: 752.08 | S13: 800 | T13: - | U13: - | V13: - | W13: - | X13: - | Y13: -
A14: Eighth | B14: - | C14: - | D14: - | E14: - | F14: - | G14: - | H14: - | I14: - | J14: - | K14: 817.4 | L14: 868.53333 | M14: 900 | N14: - | O14: - | P14: 900 | Q14: 677.35 | R14: 817.56667 | S14: 900 | T14: - | U14: - | V14: - | W14: - | X14: - | Y14: -
A15: AVERAGE | B15: =AVERAGE(B7:B14) -> 43.735 | C15: =AVERAGE(C7:C14) -> 63.351 | D15: =AVERAGE(D7:D14) -> 62.25 | E15: =AVERAGE(E7:E14) -> 4.056 | F15: =AVERAGE(F7:F14) -> 5.7736 | G15: =AVERAGE(G7:G14) -> 3.9 | H15: =AVERAGE(H7:H14) -> 93.8 | I15: =AVERAGE(I7:I14) -> 123.9625 | J15: =AVERAGE(J7:J14) -> 114.5 | K15: =IFERROR((AVERAGE(K7:K14)),"-") -> 560.31667 | L15: =IFERROR((AVERAGE(L7:L14)),"-") -> 645.94444 | M15: =AVERAGE(M7:M14) -> 600 | N15: =IFERROR((AVERAGE(N7:N14)),"-") -> 440 | O15: =IFERROR((AVERAGE(O7:O14)),"-") -> 559.5 | P15: =IFERROR((AVERAGE(P7:P14)),"-") -> 700 | Q15: =IFERROR((AVERAGE(Q7:Q14)),"-") -> 473.025 | R15: =IFERROR((AVERAGE(R7:R14)),"-") -> 620.93333 | S15: =IFERROR((AVERAGE(S7:S14)),"-") -> 600 | T15: =AVERAGE(T7:T14) -> 0.31543 | U15: =AVERAGE(U7:U14) -> 0.54567 | V15: =AVERAGE(V7:V14) -> 0.4125 | W15: =AVERAGE(W7:W14) -> 0.36238667 | X15: =AVERAGE(X7:X14) -> 0.65965333 | Y15: =AVERAGE(Y7:Y14) -> 0.48333333 | Z15: =AVERAGE(Z7:Z14) -> 89.8142 | AA15: =AVERAGE(AA7:AA14) -> 0.9
A16: % GAIN | B16: =(C15-B15)/B15 -> 0.44851949 | D16: - | E16: =(F15-E15)/E15 -> 0.4234714 | G16: - | H16: =(I15-H15)/H15 -> 0.32156183 | J16: - | K16: =IFERROR(((L15-K15)/K15),"-") -> 0.15282033 | M16: - | N16: =IFERROR(((O15-N15)/N15),"-") -> 0.27159091 | P16: - | Q16: =IFERROR(((R15-Q15)/Q15),"-") -> 0.31268608 | S16: - | T16: =(U15-T15)/T15 -> 0.72992423 | V16: - | W16: =(X15-W15)/W15 -> 0.82030244 | Y16: - | Z16: - | AA16: -
A17: * "CUT" refers to the grade level proficiency cut point.

Sheet Scores
B1: Student Assessment Report
B2: Achievement Summary
A4: TEACHER | F4: YEAR | I4: GRADE | L4: DATE | S4: GRAPH CODES
A5: ='70'!A6:B6 -> ?? | F5: ='70'!D6 -> ?? | I5: ='70'!G6 -> ? | L5: =TODAY() -> 45162 | S5: TECS Average | W5: E of Y Proficiency Cut
A7: Homework Completion | G7: % TECS | H7: % Prof | J7: Seventy Phonograms | O7: % Apr | P7: % Gain | Q7: % Prof | S7: Spelling - Grade Level | X7: % Apr | Y7: % Gain | Z7: % Prof
G8: =HW!K44 -> - | H8: =HW!L44 -> - | O8: ='70'!L44 -> - | P8: ='70'!M44 -> - | Q8: ='70'!N44 -> - | X8: =Spell!L44 -> - | Y8: =Spell!M44 -> - | Z8: =Spell!N44 -> -
A9: GP 1 | B9: GP 2 | C9: GP 3 | D9: GP 4 | E9: GP 5 | F9: GP 6 | G9: AVE | J9: Aug | K9: Sep | L9: Oct | M9: Nov | N9: Jan | O9: Feb | P9: Mar | Q9: Apr | S9: Aug | T9: Sep | U9: Oct | V9: Nov | W9: Jan | X9: Feb | Y9: Mar | Z9: Apr
A10: =HW!D44 -> - | B10: =HW!E44 -> - | C10: =HW!F44 -> - | D10: =HW!G44 -> - | E10: =HW!H44 -> - | F10: =HW!I44 -> - | G10: =HW!J44 -> - | J10: ='70'!D44 -> - | K10: ='70'!E44 -> - | L10: ='70'!F44 -> - | M10: ='70'!G44 -> - | N10: ='70'!H44 -> - | O10: ='70'!I44 -> - | P10: ='70'!J44 -> - | Q10: ='70'!K44 -> - | S10: =Spell!D44 -> - | T10: =Spell!E44 -> - | U10: =Spell!F44 -> - | V10: =Spell!G44 -> - | W10: =Spell!H44 -> - | X10: =Spell!I44 -> - | Y10: =Spell!J44 -> - | Z10: =Spell!K44 -> -
A12: =HW!$L$6 -> - | B12: =HW!$L$6 -> - | C12: =HW!$L$6 -> - | D12: =HW!$L$6 -> - | E12: =HW!$L$6 -> - | F12: =HW!$L$6 -> - | G12: =HW!$L$6 -> - | J12: ='70'!$N$6 -> - | K12: ='70'!$N$6 -> - | L12: ='70'!$N$6 -> - | M12: ='70'!$N$6 -> - | N12: ='70'!$N$6 -> - | O12: ='70'!$N$6 -> - | P12: ='70'!$N$6 -> - | Q12: ='70'!$N$6 -> - | S12: =Spell!$N$6 -> - | T12: =Spell!$N$6 -> - | U12: =Spell!$N$6 -> - | V12: =Spell!$N$6 -> - | W12: =Spell!$N$6 -> - | X12: =Spell!$N$6 -> - | Y12: =Spell!$N$6 -> - | Z12: =Spell!$N$6 -> -
A13: =HW!$K$6 -> - | B13: =HW!$K$6 -> - | C13: =HW!$K$6 -> - | D13: =HW!$K$6 -> - | E13: =HW!$K$6 -> - | F13: =HW!$K$6 -> - | G13: =HW!$K$6 -> - | J13: ='70'!L6 -> - | K13: =(($Q$13-$J$13)/7)+J13 -> #VALUE! | L13: =(($Q$13-$J$13)/7)+K13 -> #VALUE! | M13: =(($Q$13-$J$13)/7)+L13 -> #VALUE! | N13: =(($Q$13-$J$13)/7)+M13 -> #VALUE! | O13: =(($Q$13-$J$13)/7)+N13 -> #VALUE! | P13: =(($Q$13-$J$13)/7)+O13 -> #VALUE! | Q13: ='70'!M6 -> - | S13: =Spell!L6 -> - | T13: =(($Z$13-$S$13)/7)+S13 -> #VALUE! | U13: =(($Z$13-$S$13)/7)+T13 -> #VALUE! | V13: =(($Z$13-$S$13)/7)+U13 -> #VALUE! | W13: =(($Z$13-$S$13)/7)+V13 -> #VALUE! | X13: =(($Z$13-$S$13)/7)+W13 -> #VALUE! | Y13: =(($Z$13-$S$13)/7)+X13 -> #VALUE! | Z13: =Spell!M6 -> -
A21: IXL Overall Reading | F21: % Apr | G21: % Gain | H21: % Prof | J21: IXL Overall Language Arts | O21: % Apr | P21: % Gain | Q21: % Prof | S21: Word Per Minute | X21: % Apr | Y21: % Gain | Z21: % Prof
F22: ='IXL ELA'!P46 -> - | G22: ='IXL ELA'!Q46 -> - | H22: ='IXL ELA'!R46 -> - | O22: ='IXL ELA'!H46 -> - | P22: ='IXL ELA'!I46 -> - | Q22: ='IXL ELA'!J46 -> - | X22: =WPM!G46 -> - | Y22: =WPM!H46 -> - | Z22: =WPM!I46 -> -
A23: First | C23: Second | E23: Third | J23: First | L23: Second | N23: Third | S23: First | U23: Second | W23: Third
A24: ='IXL ELA'!L46 -> - | C24: ='IXL ELA'!M46 -> - | E24: ='IXL ELA'!N46 -> - | J24: ='IXL ELA'!D46 -> - | L24: ='IXL ELA'!E46 -> - | N24: ='IXL ELA'!F46 -> - | S24: =WPM!D46 -> - | U24: =WPM!E46 -> - | W24: =WPM!F46 -> -
A26: ='IXL ELA'!$N$7 -> - | B26: ='IXL ELA'!$N$7 -> - | C26: ='IXL ELA'!$N$7 -> - | K26: =J23 -> First | L26: =L23 -> Second | M26: =N23 -> Third | T26: =S23 -> First | U26: =U23 -> Second | V26: =W23 -> Third
A27: ='IXL ELA'!L7 -> - | B27: =((C27-A27)/2+A27) -> #VALUE! | C27: ='IXL ELA'!M7 -> - | K27: =J24 -> - | L27: =L24 -> - | M27: =N24 -> - | T27: =S24 -> - | U27: =U24 -> - | V27: =W24 -> -
B29: =A23 -> First | C29: =C23 -> Second | D29: =E23 -> Third | K29: ='IXL ELA'!H7 -> - | L29: =((M29-K29)/2)+K29 -> #VALUE! | M29: ='IXL ELA'!I7 -> - | T29: =WPM!J7 -> - | U29: =((V29-T29)/2)+T29 -> #VALUE! | V29: =WPM!K7 -> -
B30: =A24 -> - | C30: =C24 -> - | D30: =E24 -> - | K30: ='IXL ELA'!$J$7 -> - | L30: ='IXL ELA'!$J$7 -> - | M30: ='IXL ELA'!$J$7 -> - | T30: =WPM!$L$7 -> - | U30: =WPM!$L$7 -> - | V30: =WPM!$L$7 -> -
A35: IXL Overall Math | F35: % Apr | G35: % Gain | H35: % Prof | J35: Subtraction Facts | O35: % Apr | P35: % Gain | Q35: % Prof | S35: Multiplication Facts | X35: % Apr | Y35: % Gain | Z35: % Prof
F36: ='IXL Math'!H46 -> - | G36: ='IXL Math'!I46 -> - | H36: ='IXL Math'!J46 -> - | O36: =Sub!L44 -> - | P36: =Sub!M44 -> - | Q36: =Sub!N44 -> - | X36: =Mult!L44 -> - | Y36: =Mult!M44 -> - | Z36: =Mult!N44 -> -
A37: First | C37: Second | E37: Third | J37: Aug | K37: Sep | L37: Oct | M37: Nov | N37: Jan | O37: Feb | P37: Mar | Q37: Apr | S37: Aug | T37: Sep | U37: Oct | V37: Nov | W37: Jan | X37: Feb | Y37: Mar | Z37: Apr
A38: ='IXL Math'!D46 -> - | C38: ='IXL Math'!E46 -> - | E38: ='IXL Math'!F46 -> - | J38: =Sub!D44 -> - | K38: =Sub!E44 -> - | L38: =Sub!F44 -> - | M38: =Sub!G44 -> - | N38: =Sub!H44 -> - | O38: =Sub!I44 -> - | P38: =Sub!J44 -> - | Q38: =Sub!K44 -> - | S38: =Mult!D44 -> - | T38: =Mult!E44 -> - | U38: =Mult!F44 -> - | V38: =Mult!G44 -> - | W38: =Mult!H44 -> - | X38: =Mult!I44 -> - | Y38: =Mult!J44 -> - | Z38: =Mult!K44 -> -
B40: =A37 -> First | C40: =C37 -> Second | D40: =E37 -> Third | J40: =Sub!$N$6 -> - | K40: =Sub!$N$6 -> - | L40: =Sub!$N$6 -> - | M40: =Sub!$N$6 -> - | N40: =Sub!$N$6 -> - | O40: =Sub!$N$6 -> - | P40: =Sub!$N$6 -> - | Q40: =Sub!$N$6 -> - | S40: =Mult!$N$6 -> - | T40: =Mult!$N$6 -> - | U40: =Mult!$N$6 -> - | V40: =Mult!$N$6 -> - | W40: =Mult!$N$6 -> - | X40: =Mult!$N$6 -> - | Y40: =Mult!$N$6 -> - | Z40: =Mult!$N$6 -> -
B41: =A38 -> - | C41: =C38 -> - | D41: =E38 -> - | J41: =Sub!L6 -> - | K41: =(($Q$41-$J$41)/7)+J41 -> #VALUE! | L41: =(($Q$41-$J$41)/7)+K41 -> #VALUE! | M41: =(($Q$41-$J$41)/7)+L41 -> #VALUE! | N41: =(($Q$41-$J$41)/7)+M41 -> #VALUE! | O41: =(($Q$41-$J$41)/7)+N41 -> #VALUE! | P41: =(($Q$41-$J$41)/7)+O41 -> #VALUE! | Q41: =Sub!M6 -> - | S41: =Mult!L6 -> - | T41: =(($Z$41-$S$41)/7)+S41 -> #VALUE! | U41: =(($Z$41-$S$41)/7)+T41 -> #VALUE! | V41: =(($Z$41-$S$41)/7)+U41 -> #VALUE! | W41: =(($Z$41-$S$41)/7)+V41 -> #VALUE! | X41: =(($Z$41-$S$41)/7)+W41 -> #VALUE! | Y41: =(($Z$41-$S$41)/7)+X41 -> #VALUE! | Z41: =Mult!M6 -> -
B43: ='IXL Math'!H7 -> - | C43: =((D43-B43)/2)+B43 -> #VALUE! | D43: ='IXL Math'!I7 -> -
B44: ='IXL Math'!$J$7 -> - | C44: ='IXL Math'!$J$7 -> - | D44: ='IXL Math'!$J$7 -> -

Sheet Class Info.
B2: Information Sheet
A5: TEACHER | C5: School ID # | E5: YEAR | H5: GRADE
A6: I.e. | B6: Mr.Larsen | C6: 94-### | E6: 2019-20 | H6: 4
A7: ?? | C7: 94-??? | E7: ?? | H7: ?
A9: First Name | C9: Last Name | D9: SSID (state #) | E9: Student 4 digit # | F9: Birthdate
A10: 1 | E10: -
A11: 2 | E11: -
A12: 3 | E12: -
A13: 4 | E13: -
A14: 5 | E14: -
A15: 6 | E15: -
A16: 7 | E16: -
A17: 8 | E17: -
A18: 9 | E18: -
A19: 10 | E19: -
A20: 11 | E20: -
A21: 12 | E21: -
... A44: 35 | E44: -

Sheet 70
B2: Student Assessment Report
B3: Seventy Phonograms
A5: TEACHER | D5: YEAR | G5: GRADE | J5: TECS AVERAGES | L5: Aug | M5: April | N5: E of Y Prof.
A6: ='Class Info.'!A7:B7 -> ?? | D6: ='Class Info.'!E7 -> ?? | G6: ='Class Info.'!H7 -> ? | L6: - | M6: - | N6: -
A8: STUDENT NAME | C8: Student # | D8: Aug | E8: Sept | F8: Oct | G8: Nov | H8: Jan | I8: Feb | J8: Mar | K8: Apr | L8: % Apr Ave | M8: % Gain | N8: E of Y Prof.
A9: 1 | B9: =CONCATENATE('Class Info.'!B10," ",'Class Info.'!C10) | C9: ='Class Info.'!E10 -> - | D9: - | E9: - | F9: - | G9: - | H9: - | I9: - | J9: - | K9: - | L9: =IFERROR((IF((MAX(D9:K9)/M$6)=0,"-",MAX(D9:K9)/M$6)),"-") -> - | M9: =IFERROR((IF((MAX(D9:K9)-D9)/D9=0,"-",MAX(D9:K9)-D9)/D9),"-") -> - | N9: =IFERROR(((IF((MAX(D9:K9)/N$6)=0,"-",IF(MAX(D9:K9)>=N$6,"Yes","No")))),"-") -> - | O9: =IFERROR((IF((D9/$N$6)=0,"-",IF(D9>=$N$6,"Yes","No"))),"-") -> - | P9: =IFERROR((IF((E9/$N$6)=0,"-",IF(E9>=$N$6,"Yes","No"))),"-") -> - | Q9: =IFERROR((IF((F9/$N$6)=0,"-",IF(F9>=$N$6,"Yes","No"))),"-") -> - | R9: =IFERROR((IF((G9/$N$6)=0,"-",IF(G9>=$N$6,"Yes","No"))),"-") -> - | S9: =IFERROR((IF((H9/$N$6)=0,"-",IF(H9>=$N$6,"Yes","No"))),"-") -> - | T9: =IFERROR((IF((I9/$N$6)=0,"-",IF(I9>=$N$6,"Yes","No"))),"-") -> - | U9: =IFERROR((IF((J9/$N$6)=0,"-",IF(J9>=$N$6,"Yes","No"))),"-") -> - | V9: =IFERROR((IF((K9/$N$6)=0,"-",IF(K9>=$N$6,"Yes","No"))),"-") -> -
A10: 2 | B10: =CONCATENATE('Class Info.'!B11," ",'Class Info.'!C11) | C10: ='Class Info.'!E11 -> - | D10: - | E10: - | F10: - | G10: - | H10: - | I10: - | J10: - | K10: - | L10: =IFERROR((IF((MAX(D10:K10)/M$6)=0,"-",MAX(D10:K10)/M$6)),"-") -> - | M10: =IFERROR((IF((MAX(D10:K10)-D10)/D10=0,"-",MAX(D10:K10)-D10)/D10),"-") -> - | N10: =IFERROR(((IF((MAX(D10:K10)/N$6)=0,"-",IF(MAX(D10:K10)>=N$6,"Yes","No")))),"-") -> - | O10: =IFERROR((IF((D10/$N$6)=0,"-",IF(D10>=$N$6,"Yes","No"))),"-") -> - | P10: =IFERROR((IF((E10/$N$6)=0,"-",IF(E10>=$N$6,"Yes","No"))),"-") -> - | Q10: =IFERROR((IF((F10/$N$6)=0,"-",IF(F10>=$N$6,"Yes","No"))),"-") -> - | R10: =IFERROR((IF((G10/$N$6)=0,"-",IF(G10>=$N$6,"Yes","No"))),"-") -> - | S10: =IFERROR((IF((H10/$N$6)=0,"-",IF(H10>=$N$6,"Yes","No"))),"-") -> - | T10: =IFERROR((IF((I10/$N$6)=0,"-",IF(I10>=$N$6,"Yes","No"))),"-") -> - | U10: =IFERROR((IF((J10/$N$6)=0,"-",IF(J10>=$N$6,"Yes","No"))),"-") -> - | V10: =IFERROR((IF((K10/$N$6)=0,"-",IF(K10>=$N$6,"Yes","No"))),"-") -> -
A11: 3 | B11: =CONCATENATE('Class Info.'!B12," ",'Class Info.'!C12) | C11: ='Class Info.'!E12 -> - | D11: - | E11: - | F11: - | G11: - | H11: - | I11: - | J11: - | K11: - | L11: =IFERROR((IF((MAX(D11:K11)/M$6)=0,"-",MAX(D11:K11)/M$6)),"-") -> - | M11: =IFERROR((IF((MAX(D11:K11)-D11)/D11=0,"-",MAX(D11:K11)-D11)/D11),"-") -> - | N11: =IFERROR(((IF((MAX(D11:K11)/N$6)=0,"-",IF(MAX(D11:K11)>=N$6,"Yes","No")))),"-") -> - | O11: =IFERROR((IF((D11/$N$6)=0,"-",IF(D11>=$N$6,"Yes","No"))),"-") -> - | P11: =IFERROR((IF((E11/$N$6)=0,"-",IF(E11>=$N$6,"Yes","No"))),"-") -> - | Q11: =IFERROR((IF((F11/$N$6)=0,"-",IF(F11>=$N$6,"Yes","No"))),"-") -> - | R11: =IFERROR((IF((G11/$N$6)=0,"-",IF(G11>=$N$6,"Yes","No"))),"-") -> - | S11: =IFERROR((IF((H11/$N$6)=0,"-",IF(H11>=$N$6,"Yes","No"))),"-") -> - | T11: =IFERROR((IF((I11/$N$6)=0,"-",IF(I11>=$N$6,"Yes","No"))),"-") -> - | U11: =IFERROR((IF((J11/$N$6)=0,"-",IF(J11>=$N$6,"Yes","No"))),"-") -> - | V11: =IFERROR((IF((K11/$N$6)=0,"-",IF(K11>=$N$6,"Yes","No"))),"-") -> -
A12: 4 | B12: =CONCATENATE('Class Info.'!B13," ",'Class Info.'!C13) | C12: ='Class Info.'!E13 -> - | D12: - | E12: - | F12: - | G12: - | H12: - | I12: - | J12: - | K12: - | L12: =IFERROR((IF((MAX(D12:K12)/M$6)=0,"-",MAX(D12:K12)/M$6)),"-") -> - | M12: =IFERROR((IF((MAX(D12:K12)-D12)/D12=0,"-",MAX(D12:K12)-D12)/D12),"-") -> - | N12: =IFERROR(((IF((MAX(D12:K12)/N$6)=0,"-",IF(MAX(D12:K12)>=N$6,"Yes","No")))),"-") -> - | O12: =IFERROR((IF((D12/$N$6)=0,"-",IF(D12>=$N$6,"Yes","No"))),"-") -> - | P12: =IFERROR((IF((E12/$N$6)=0,"-",IF(E12>=$N$6,"Yes","No"))),"-") -> - | Q12: =IFERROR((IF((F12/$N$6)=0,"-",IF(F12>=$N$6,"Yes","No"))),"-") -> - | R12: =IFERROR((IF((G12/$N$6)=0,"-",IF(G12>=$N$6,"Yes","No"))),"-") -> - | S12: =IFERROR((IF((H12/$N$6)=0,"-",IF(H12>=$N$6,"Yes","No"))),"-") -> - | T12: =IFERROR((IF((I12/$N$6)=0,"-",IF(I12>=$N$6,"Yes","No"))),"-") -> - | U12: =IFERROR((IF((J12/$N$6)=0,"-",IF(J12>=$N$6,"Yes","No"))),"-") -> - | V12: =IFERROR((IF((K12/$N$6)=0,"-",IF(K12>=$N$6,"Yes","No"))),"-") -> -
A13: 5 | B13: =CONCATENATE('Class Info.'!B14," ",'Class Info.'!C14) | C13: ='Class Info.'!E14 -> - | D13: - | E13: - | F13: - | G13: - | H13: - | I13: - | J13: - | K13: - | L13: =IFERROR((IF((MAX(D13:K13)/M$6)=0,"-",MAX(D13:K13)/M$6)),"-") -> - | M13: =IFERROR((IF((MAX(D13:K13)-D13)/D13=0,"-",MAX(D13:K13)-D13)/D13),"-") -> - | N13: =IFERROR(((IF((MAX(D13:K13)/N$6)=0,"-",IF(MAX(D13:K13)>=N$6,"Yes","No")))),"-") -> - | O13: =IFERROR((IF((D13/$N$6)=0,"-",IF(D13>=$N$6,"Yes","No"))),"-") -> - | P13: =IFERROR((IF((E13/$N$6)=0,"-",IF(E13>=$N$6,"Yes","No"))),"-") -> - | Q13: =IFERROR((IF((F13/$N$6)=0,"-",IF(F13>=$N$6,"Yes","No"))),"-") -> - | R13: =IFERROR((IF((G13/$N$6)=0,"-",IF(G13>=$N$6,"Yes","No"))),"-") -> - | S13: =IFERROR((IF((H13/$N$6)=0,"-",IF(H13>=$N$6,"Yes","No"))),"-") -> - | T13: =IFERROR((IF((I13/$N$6)=0,"-",IF(I13>=$N$6,"Yes","No"))),"-") -> - | U13: =IFERROR((IF((J13/$N$6)=0,"-",IF(J13>=$N$6,"Yes","No"))),"-") -> - | V13: =IFERROR((IF((K13/$N$6)=0,"-",IF(K13>=$N$6,"Yes","No"))),"-") -> -
A14: 6 | B14: =CONCATENATE('Class Info.'!B15," ",'Class Info.'!C15) | C14: ='Class Info.'!E15 -> - | D14: - | E14: - | F14: - | G14: - | H14: - | I14: - | J14: - | K14: - | L14: =IFERROR((IF((MAX(D14:K14)/M$6)=0,"-",MAX(D14:K14)/M$6)),"-") -> - | M14: =IFERROR((IF((MAX(D14:K14)-D14)/D14=0,"-",MAX(D14:K14)-D14)/D14),"-") -> - | N14: =IFERROR(((IF((MAX(D14:K14)/N$6)=0,"-",IF(MAX(D14:K14)>=N$6,"Yes","No")))),"-") -> - | O14: =IFERROR((IF((D14/$N$6)=0,"-",IF(D14>=$N$6,"Yes","No"))),"-") -> - | P14: =IFERROR((IF((E14/$N$6)=0,"-",IF(E14>=$N$6,"Yes","No"))),"-") -> - | Q14: =IFERROR((IF((F14/$N$6)=0,"-",IF(F14>=$N$6,"Yes","No"))),"-") -> - | R14: =IFERROR((IF((G14/$N$6)=0,"-",IF(G14>=$N$6,"Yes","No"))),"-") -> - | S14: =IFERROR((IF((H14/$N$6)=0,"-",IF(H14>=$N$6,"Yes","No"))),"-") -> - | T14: =IFERROR((IF((I14/$N$6)=0,"-",IF(I14>=$N$6,"Yes","No"))),"-") -> - | U14: =IFERROR((IF((J14/$N$6)=0,"-",IF(J14>=$N$6,"Yes","No"))),"-") -> - | V14: =IFERROR((IF((K14/$N$6)=0,"-",IF(K14>=$N$6,"Yes","No"))),"-") -> -
A15: 7 | B15: =CONCATENATE('Class Info.'!B16," ",'Class Info.'!C16) | C15: ='Class Info.'!E16 -> - | D15: - | E15: - | F15: - | G15: - | H15: - | I15: - | J15: - | K15: - | L15: =IFERROR((IF((MAX(D15:K15)/M$6)=0,"-",MAX(D15:K15)/M$6)),"-") -> - | M15: =IFERROR((IF((MAX(D15:K15)-D15)/D15=0,"-",MAX(D15:K15)-D15)/D15),"-") -> - | N15: =IFERROR(((IF((MAX(D15:K15)/N$6)=0,"-",IF(MAX(D15:K15)>=N$6,"Yes","No")))),"-") -> - | O15: =IFERROR((IF((D15/$N$6)=0,"-",IF(D15>=$N$6,"Yes","No"))),"-") -> - | P15: =IFERROR((IF((E15/$N$6)=0,"-",IF(E15>=$N$6,"Yes","No"))),"-") -> - | Q15: =IFERROR((IF((F15/$N$6)=0,"-",IF(F15>=$N$6,"Yes","No"))),"-") -> - | R15: =IFERROR((IF((G15/$N$6)=0,"-",IF(G15>=$N$6,"Yes","No"))),"-") -> - | S15: =IFERROR((IF((H15/$N$6)=0,"-",IF(H15>=$N$6,"Yes","No"))),"-") -> - | T15: =IFERROR((IF((I15/$N$6)=0,"-",IF(I15>=$N$6,"Yes","No"))),"-") -> - | U15: =IFERROR((IF((J15/$N$6)=0,"-",IF(J15>=$N$6,"Yes","No"))),"-") -> - | V15: =IFERROR((IF((K15/$N$6)=0,"-",IF(K15>=$N$6,"Yes","No"))),"-") -> -
A16: 8 | B16: =CONCATENATE('Class Info.'!B17," ",'Class Info.'!C17) | C16: ='Class Info.'!E17 -> - | D16: - | E16: - | F16: - | G16: - | H16: - | I16: - | J16: - | K16: - | L16: =IFERROR((IF((MAX(D16:K16)/M$6)=0,"-",MAX(D16:K16)/M$6)),"-") -> - | M16: =IFERROR((IF((MAX(D16:K16)-D16)/D16=0,"-",MAX(D16:K16)-D16)/D16),"-") -> - | N16: =IFERROR(((IF((MAX(D16:K16)/N$6)=0,"-",IF(MAX(D16:K16)>=N$6,"Yes","No")))),"-") -> - | O16: =IFERROR((IF((D16/$N$6)=0,"-",IF(D16>=$N$6,"Yes","No"))),"-") -> - | P16: =IFERROR((IF((E16/$N$6)=0,"-",IF(E16>=$N$6,"Yes","No"))),"-") -> - | Q16: =IFERROR((IF((F16/$N$6)=0,"-",IF(F16>=$N$6,"Yes","No"))),"-") -> - | R16: =IFERROR((IF((G16/$N$6)=0,"-",IF(G16>=$N$6,"Yes","No"))),"-") -> - | S16: =IFERROR((IF((H16/$N$6)=0,"-",IF(H16>=$N$6,"Yes","No"))),"-") -> - | T16: =IFERROR((IF((I16/$N$6)=0,"-",IF(I16>=$N$6,"Yes","No"))),"-") -> - | U16: =IFERROR((IF((J16/$N$6)=0,"-",IF(J16>=$N$6,"Yes","No"))),"-") -> - | V16: =IFERROR((IF((K16/$N$6)=0,"-",IF(K16>=$N$6,"Yes","No"))),"-") -> -
A17: 9 | B17: =CONCATENATE('Class Info.'!B18," ",'Class Info.'!C18) | C17: ='Class Info.'!E18 -> - | D17: - | E17: - | F17: - | G17: - | H17: - | I17: - | J17: - | K17: - | L17: =IFERROR((IF((MAX(D17:K17)/M$6)=0,"-",MAX(D17:K17)/M$6)),"-") -> - | M17: =IFERROR((IF((MAX(D17:K17)-D17)/D17=0,"-",MAX(D17:K17)-D17)/D17),"-") -> - | N17: =IFERROR(((IF((MAX(D17:K17)/N$6)=0,"-",IF(MAX(D17:K17)>=N$6,"Yes","No")))),"-") -> - | O17: =IFERROR((IF((D17/$N$6)=0,"-",IF(D17>=$N$6,"Yes","No"))),"-") -> - | P17: =IFERROR((IF((E17/$N$6)=0,"-",IF(E17>=$N$6,"Yes","No"))),"-") -> - | Q17: =IFERROR((IF((F17/$N$6)=0,"-",IF(F17>=$N$6,"Yes","No"))),"-") -> - | R17: =IFERROR((IF((G17/$N$6)=0,"-",IF(G17>=$N$6,"Yes","No"))),"-") -> - | S17: =IFERROR((IF((H17/$N$6)=0,"-",IF(H17>=$N$6,"Yes","No"))),"-") -> - | T17: =IFERROR((IF((I17/$N$6)=0,"-",IF(I17>=$N$6,"Yes","No"))),"-") -> - | U17: =IFERROR((IF((J17/$N$6)=0,"-",IF(J17>=$N$6,"Yes","No"))),"-") -> - | V17: =IFERROR((IF((K17/$N$6)=0,"-",IF(K17>=$N$6,"Yes","No"))),"-") -> -
A18: 10 | B18: =CONCATENATE('Class Info.'!B19," ",'Class Info.'!C19) | C18: ='Class Info.'!E19 -> - | D18: - | E18: - | F18: - | G18: - | H18: - | I18: - | J18: - | K18: - | L18: =IFERROR((IF((MAX(D18:K18)/M$6)=0,"-",MAX(D18:K18)/M$6)),"-") -> - | M18: =IFERROR((IF((MAX(D18:K18)-D18)/D18=0,"-",MAX(D18:K18)-D18)/D18),"-") -> - | N18: =IFERROR(((IF((MAX(D18:K18)/N$6)=0,"-",IF(MAX(D18:K18)>=N$6,"Yes","No")))),"-") -> - | O18: =IFERROR((IF((D18/$N$6)=0,"-",IF(D18>=$N$6,"Yes","No"))),"-") -> - | P18: =IFERROR((IF((E18/$N$6)=0,"-",IF(E18>=$N$6,"Yes","No"))),"-") -> - | Q18: =IFERROR((IF((F18/$N$6)=0,"-",IF(F18>=$N$6,"Yes","No"))),"-") -> - | R18: =IFERROR((IF((G18/$N$6)=0,"-",IF(G18>=$N$6,"Yes","No"))),"-") -> - | S18: =IFERROR((IF((H18/$N$6)=0,"-",IF(H18>=$N$6,"Yes","No"))),"-") -> - | T18: =IFERROR((IF((I18/$N$6)=0,"-",IF(I18>=$N$6,"Yes","No"))),"-") -> - | U18: =IFERROR((IF((J18/$N$6)=0,"-",IF(J18>=$N$6,"Yes","No"))),"-") -> - | V18: =IFERROR((IF((K18/$N$6)=0,"-",IF(K18>=$N$6,"Yes","No"))),"-") -> -
A19: 11 | B19: =CONCATENATE('Class Info.'!B20," ",'Class Info.'!C20) | C19: ='Class Info.'!E20 -> - | D19: - | E19: - | F19: - | G19: - | H19: - | I19: - | J19: - | K19: - | L19: =IFERROR((IF((MAX(D19:K19)/M$6)=0,"-",MAX(D19:K19)/M$6)),"-") -> - | M19: =IFERROR((IF((MAX(D19:K19)-D19)/D19=0,"-",MAX(D19:K19)-D19)/D19),"-") -> - | N19: =IFERROR(((IF((MAX(D19:K19)/N$6)=0,"-",IF(MAX(D19:K19)>=N$6,"Yes","No")))),"-") -> - | O19: =IFERROR((IF((D19/$N$6)=0,"-",IF(D19>=$N$6,"Yes","No"))),"-") -> - | P19: =IFERROR((IF((E19/$N$6)=0,"-",IF(E19>=$N$6,"Yes","No"))),"-") -> - | Q19: =IFERROR((IF((F19/$N$6)=0,"-",IF(F19>=$N$6,"Yes","No"))),"-") -> - | R19: =IFERROR((IF((G19/$N$6)=0,"-",IF(G19>=$N$6,"Yes","No"))),"-") -> - | S19: =IFERROR((IF((H19/$N$6)=0,"-",IF(H19>=$N$6,"Yes","No"))),"-") -> - | T19: =IFERROR((IF((I19/$N$6)=0,"-",IF(I19>=$N$6,"Yes","No"))),"-") -> - | U19: =IFERROR((IF((J19/$N$6)=0,"-",IF(J19>=$N$6,"Yes","No"))),"-") -> - | V19: =IFERROR((IF((K19/$N$6)=0,"-",IF(K19>=$N$6,"Yes","No"))),"-") -> -
A20: 12 | B20: =CONCATENATE('Class Info.'!B21," ",'Class Info.'!C21) | C20: ='Class Info.'!E21 -> - | D20: - | E20: - | F20: - | G20: - | H20: - | I20: - | J20: - | K20: - | L20: =IFERROR((IF((MAX(D20:K20)/M$6)=0,"-",MAX(D20:K20)/M$6)),"-") -> - | M20: =IFERROR((IF((MAX(D20:K20)-D20)/D20=0,"-",MAX(D20:K20)-D20)/D20),"-") -> - | N20: =IFERROR(((IF((MAX(D20:K20)/N$6)=0,"-",IF(MAX(D20:K20)>=N$6,"Yes","No")))),"-") -> - | O20: =IFERROR((IF((D20/$N$6)=0,"-",IF(D20>=$N$6,"Yes","No"))),"-") -> - | P20: =IFERROR((IF((E20/$N$6)=0,"-",IF(E20>=$N$6,"Yes","No"))),"-") -> - | Q20: =IFERROR((IF((F20/$N$6)=0,"-",IF(F20>=$N$6,"Yes","No"))),"-") -> - | R20: =IFERROR((IF((G20/$N$6)=0,"-",IF(G20>=$N$6,"Yes","No"))),"-") -> - | S20: =IFERROR((IF((H20/$N$6)=0,"-",IF(H20>=$N$6,"Yes","No"))),"-") -> - | T20: =IFERROR((IF((I20/$N$6)=0,"-",IF(I20>=$N$6,"Yes","No"))),"-") -> - | U20: =IFERROR((IF((J20/$N$6)=0,"-",IF(J20>=$N$6,"Yes","No"))),"-") -> - | V20: =IFERROR((IF((K20/$N$6)=0,"-",IF(K20>=$N$6,"Yes","No"))),"-") -> -
... A43: 35 | B43: =CONCATENATE('Class Info.'!B44," ",'Class Info.'!C44) | C43: ='Class Info.'!E44 -> - | D43: - | E43: - | F43: - | G43: - | H43: - | I43: - | J43: - | K43: - | L43: =IFERROR((IF((MAX(D43:K43)/M$6)=0,"-",MAX(D43:K43)/M$6)),"-") -> - | M43: =IFERROR((IF((MAX(D43:K43)-D43)/D43=0,"-",MAX(D43:K43)-D43)/D43),"-") -> - | N43: =IFERROR(((IF((MAX(D43:K43)/N$6)=0,"-",IF(MAX(D43:K43)>=N$6,"Yes","No")))),"-") -> - | O43: =IFERROR((IF((D43/$N$6)=0,"-",IF(D43>=$N$6,"Yes","No"))),"-") -> - | P43: =IFERROR((IF((E43/$N$6)=0,"-",IF(E43>=$N$6,"Yes","No"))),"-") -> - | Q43: =IFERROR((IF((F43/$N$6)=0,"-",IF(F43>=$N$6,"Yes","No"))),"-") -> - | R43: =IFERROR((IF((G43/$N$6)=0,"-",IF(G43>=$N$6,"Yes","No"))),"-") -> - | S43: =IFERROR((IF((H43/$N$6)=0,"-",IF(H43>=$N$6,"Yes","No"))),"-") -> - | T43: =IFERROR((IF((I43/$N$6)=0,"-",IF(I43>=$N$6,"Yes","No"))),"-") -> - | U43: =IFERROR((IF((J43/$N$6)=0,"-",IF(J43>=$N$6,"Yes","No"))),"-") -> - | V43: =IFERROR((IF((K43/$N$6)=0,"-",IF(K43>=$N$6,"Yes","No"))),"-") -> -
A44: RAW CLASS TOTALS | D44: =IFERROR(AVERAGE(D9:D43),"-") -> - | E44: =IFERROR(AVERAGE(E9:E43),"-") -> - | F44: =IFERROR(AVERAGE(F9:F43),"-") -> - | G44: =IFERROR(AVERAGE(G9:G43),"-") -> - | H44: =IFERROR(AVERAGE(H9:H43),"-") -> - | I44: =IFERROR(AVERAGE(I9:I43),"-") -> - | J44: =IFERROR(AVERAGE(J9:J43),"-") -> - | K44: =IFERROR(AVERAGE(K9:K43),"-") -> - | L44: =IFERROR((IF((MAX(D44:K44)/M$6)=0,"-",MAX(D44:K44)/M$6)),"-") -> - | M44: =IFERROR((IF((MAX(D44:K44)-D44)/D44=0,"-",MAX(D44:K44)-D44)/D44),"-") -> - | N44: =IFERROR((COUNTIF(N9:N43,"Yes")/(COUNTIF(N9:N43,"Yes")+COUNTIF(N9:N43,"No"))),"-") -> -
A45: % OF APRIL AVERAGE | D45: =IFERROR((D44/$M$6),"-") -> - | E45: =IFERROR((E44/$M$6),"-") -> - | F45: =IFERROR((F44/$M$6),"-") -> - | G45: =IFERROR((G44/$M$6),"-") -> - | H45: =IFERROR((H44/$M$6),"-") -> - | I45: =IFERROR((I44/$M$6),"-") -> - | J45: =IFERROR((J44/$M$6),"-") -> - | K45: =IFERROR((K44/$M$6),"-") -> -
A46: % MONTHLY GAIN | D46: - | E46: =IFERROR(((E44-D44)/D44),"-") -> - | F46: =IFERROR(((F44-E44)/E44),"-") -> - | G46: =IFERROR(((G44-F44)/F44),"-") -> - | H46: =IFERROR(((H44-G44)/G44),"-") -> - | I46: =IFERROR(((I44-H44)/H44),"-") -> - | J46: =IFERROR(((J44-I44)/I44),"-") -> - | K46: =IFERROR(((K44-J44)/J44),"-") -> -
A47: % PROFICIENT OF YEAR END CUT | D47: =IFERROR((COUNTIF(O9:O43,"Yes")/(COUNTIF(O9:O43,"Yes")+COUNTIF(O9:O43,"No"))),"-") -> - | E47: =IFERROR((COUNTIF(P9:P43,"Yes")/(COUNTIF(P9:P43,"Yes")+COUNTIF(P9:P43,"No"))),"-") -> - | F47: =IFERROR((COUNTIF(Q9:Q43,"Yes")/(COUNTIF(Q9:Q43,"Yes")+COUNTIF(Q9:Q43,"No"))),"-") -> - | G47: =IFERROR((COUNTIF(R9:R43,"Yes")/(COUNTIF(R9:R43,"Yes")+COUNTIF(R9:R43,"No"))),"-") -> - | H47: =IFERROR((COUNTIF(S9:S43,"Yes")/(COUNTIF(S9:S43,"Yes")+COUNTIF(S9:S43,"No"))),"-") -> - | I47: =IFERROR((COUNTIF(T9:T43,"Yes")/(COUNTIF(T9:T43,"Yes")+COUNTIF(T9:T43,"No"))),"-") -> - | J47: =IFERROR((COUNTIF(U9:U43,"Yes")/(COUNTIF(U9:U43,"Yes")+COUNTIF(U9:U43,"No"))),"-") -> - | K47: =IFERROR((COUNTIF(V9:V43,"Yes")/(COUNTIF(V9:V43,"Yes")+COUNTIF(V9:V43,"No"))),"-") -> -

Sheet Spell
B2: Student Assessment Report
B3: Morrison McCall Spelling Test
A5: TEACHER | D5: YEAR | G5: GRADE | J5: TECS AVERAGES | L5: August | M5: April | N5: E of Y Prof.
A6: ='Class Info.'!A7:B7 -> ?? | D6: ='Class Info.'!E7 -> ?? | G6: ='Class Info.'!H7 -> ? | L6: - | M6: - | N6: -
A8: STUDENT NAME | C8: Student # | D8: Aug | E8: Sept | F8: Oct | G8: Nov | H8: Jan | I8: Feb | J8: Mar | K8: Apr | L8: % Apr Ave | M8: % Gain | N8: E of Y Prof.
A9: 1 | B9: =CONCATENATE('Class Info.'!B10," ",'Class Info.'!C10) | C9: ='Class Info.'!E10 -> - | D9: - | E9: - | F9: - | G9: - | H9: - | I9: - | J9: - | K9: - | L9: =IFERROR((IF((MAX(D9:K9)/M$6)=0,"-",MAX(D9:K9)/M$6)),"-") -> - | M9: =IFERROR((IF((MAX(D9:K9)-D9)/D9=0,"-",MAX(D9:K9)-D9)/D9),"-") -> - | N9: =IFERROR(((IF((MAX(D9:K9)/N$6)=0,"-",IF(MAX(D9:K9)>=N$6,"Yes","No")))),"-") -> - | O9: =IFERROR((IF((D9/$N$6)=0,"-",IF(D9>=$N$6,"Yes","No"))),"-") -> - | P9: =IFERROR((IF((E9/$N$6)=0,"-",IF(E9>=$N$6,"Yes","No"))),"-") -> - | Q9: =IFERROR((IF((F9/$N$6)=0,"-",IF(F9>=$N$6,"Yes","No"))),"-") -> - | R9: =IFERROR((IF((G9/$N$6)=0,"-",IF(G9>=$N$6,"Yes","No"))),"-") -> - | S9: =IFERROR((IF((H9/$N$6)=0,"-",IF(H9>=$N$6,"Yes","No"))),"-") -> - | T9: =IFERROR((IF((I9/$N$6)=0,"-",IF(I9>=$N$6,"Yes","No"))),"-") -> - | U9: =IFERROR((IF((J9/$N$6)=0,"-",IF(J9>=$N$6,"Yes","No"))),"-") -> - | V9: =IFERROR((IF((K9/$N$6)=0,"-",IF(K9>=$N$6,"Yes","No"))),"-") -> -
A10: 2 | B10: =CONCATENATE('Class Info.'!B11," ",'Class Info.'!C11) | C10: ='Class Info.'!E11 -> - | D10: - | E10: - | F10: - | G10: - | H10: - | I10: - | J10: - | K10: - | L10: =IFERROR((IF((MAX(D10:K10)/M$6)=0,"-",MAX(D10:K10)/M$6)),"-") -> - | M10: =IFERROR((IF((MAX(D10:K10)-D10)/D10=0,"-",MAX(D10:K10)-D10)/D10),"-") -> - | N10: =IFERROR(((IF((MAX(D10:K10)/N$6)=0,"-",IF(MAX(D10:K10)>=N$6,"Yes","No")))),"-") -> - | O10: =IFERROR((IF((D10/$N$6)=0,"-",IF(D10>=$N$6,"Yes","No"))),"-") -> - | P10: =IFERROR((IF((E10/$N$6)=0,"-",IF(E10>=$N$6,"Yes","No"))),"-") -> - | Q10: =IFERROR((IF((F10/$N$6)=0,"-",IF(F10>=$N$6,"Yes","No"))),"-") -> - | R10: =IFERROR((IF((G10/$N$6)=0,"-",IF(G10>=$N$6,"Yes","No"))),"-") -> - | S10: =IFERROR((IF((H10/$N$6)=0,"-",IF(H10>=$N$6,"Yes","No"))),"-") -> - | T10: =IFERROR((IF((I10/$N$6)=0,"-",IF(I10>=$N$6,"Yes","No"))),"-") -> - | U10: =IFERROR((IF((J10/$N$6)=0,"-",IF(J10>=$N$6,"Yes","No"))),"-") -> - | V10: =IFERROR((IF((K10/$N$6)=0,"-",IF(K10>=$N$6,"Yes","No"))),"-") -> -
A11: 3 | B11: =CONCATENATE('Class Info.'!B12," ",'Class Info.'!C12) | C11: ='Class Info.'!E12 -> - | D11: - | E11: - | F11: - | G11: - | H11: - | I11: - | J11: - | K11: - | L11: =IFERROR((IF((MAX(D11:K11)/M$6)=0,"-",MAX(D11:K11)/M$6)),"-") -> - | M11: =IFERROR((IF((MAX(D11:K11)-D11)/D11=0,"-",MAX(D11:K11)-D11)/D11),"-") -> - | N11: =IFERROR(((IF((MAX(D11:K11)/N$6)=0,"-",IF(MAX(D11:K11)>=N$6,"Yes","No")))),"-") -> - | O11: =IFERROR((IF((D11/$N$6)=0,"-",IF(D11>=$N$6,"Yes","No"))),"-") -> - | P11: =IFERROR((IF((E11/$N$6)=0,"-",IF(E11>=$N$6,"Yes","No"))),"-") -> - | Q11: =IFERROR((IF((F11/$N$6)=0,"-",IF(F11>=$N$6,"Yes","No"))),"-") -> - | R11: =IFERROR((IF((G11/$N$6)=0,"-",IF(G11>=$N$6,"Yes","No"))),"-") -> - | S11: =IFERROR((IF((H11/$N$6)=0,"-",IF(H11>=$N$6,"Yes","No"))),"-") -> - | T11: =IFERROR((IF((I11/$N$6)=0,"-",IF(I11>=$N$6,"Yes","No"))),"-") -> - | U11: =IFERROR((IF((J11/$N$6)=0,"-",IF(J11>=$N$6,"Yes","No"))),"-") -> - | V11: =IFERROR((IF((K11/$N$6)=0,"-",IF(K11>=$N$6,"Yes","No"))),"-") -> -
A12: 4 | B12: =CONCATENATE('Class Info.'!B13," ",'Class Info.'!C13) | C12: ='Class Info.'!E13 -> - | D12: - | E12: - | F12: - | G12: - | H12: - | I12: - | J12: - | K12: - | L12: =IFERROR((IF((MAX(D12:K12)/M$6)=0,"-",MAX(D12:K12)/M$6)),"-") -> - | M12: =IFERROR((IF((MAX(D12:K12)-D12)/D12=0,"-",MAX(D12:K12)-D12)/D12),"-") -> - | N12: =IFERROR(((IF((MAX(D12:K12)/N$6)=0,"-",IF(MAX(D12:K12)>=N$6,"Yes","No")))),"-") -> - | O12: =IFERROR((IF((D12/$N$6)=0,"-",IF(D12>=$N$6,"Yes","No"))),"-") -> - | P12: =IFERROR((IF((E12/$N$6)=0,"-",IF(E12>=$N$6,"Yes","No"))),"-") -> - | Q12: =IFERROR((IF((F12/$N$6)=0,"-",IF(F12>=$N$6,"Yes","No"))),"-") -> - | R12: =IFERROR((IF((G12/$N$6)=0,"-",IF(G12>=$N$6,"Yes","No"))),"-") -> - | S12: =IFERROR((IF((H12/$N$6)=0,"-",IF(H12>=$N$6,"Yes","No"))),"-") -> - | T12: =IFERROR((IF((I12/$N$6)=0,"-",IF(I12>=$N$6,"Yes","No"))),"-") -> - | U12: =IFERROR((IF((J12/$N$6)=0,"-",IF(J12>=$N$6,"Yes","No"))),"-") -> - | V12: =IFERROR((IF((K12/$N$6)=0,"-",IF(K12>=$N$6,"Yes","No"))),"-") -> -
A13: 5 | B13: =CONCATENATE('Class Info.'!B14," ",'Class Info.'!C14) | C13: ='Class Info.'!E14 -> - | D13: - | E13: - | F13: - | G13: - | H13: - | I13: - | J13: - | K13: - | L13: =IFERROR((IF((MAX(D13:K13)/M$6)=0,"-",MAX(D13:K13)/M$6)),"-") -> - | M13: =IFERROR((IF((MAX(D13:K13)-D13)/D13=0,"-",MAX(D13:K13)-D13)/D13),"-") -> - | N13: =IFERROR(((IF((MAX(D13:K13)/N$6)=0,"-",IF(MAX(D13:K13)>=N$6,"Yes","No")))),"-") -> - | O13: =IFERROR((IF((D13/$N$6)=0,"-",IF(D13>=$N$6,"Yes","No"))),"-") -> - | P13: =IFERROR((IF((E13/$N$6)=0,"-",IF(E13>=$N$6,"Yes","No"))),"-") -> - | Q13: =IFERROR((IF((F13/$N$6)=0,"-",IF(F13>=$N$6,"Yes","No"))),"-") -> - | R13: =IFERROR((IF((G13/$N$6)=0,"-",IF(G13>=$N$6,"Yes","No"))),"-") -> - | S13: =IFERROR((IF((H13/$N$6)=0,"-",IF(H13>=$N$6,"Yes","No"))),"-") -> - | T13: =IFERROR((IF((I13/$N$6)=0,"-",IF(I13>=$N$6,"Yes","No"))),"-") -> - | U13: =IFERROR((IF((J13/$N$6)=0,"-",IF(J13>=$N$6,"Yes","No"))),"-") -> - | V13: =IFERROR((IF((K13/$N$6)=0,"-",IF(K13>=$N$6,"Yes","No"))),"-") -> -
A14: 6 | B14: =CONCATENATE('Class Info.'!B15," ",'Class Info.'!C15) | C14: ='Class Info.'!E15 -> - | D14: - | E14: - | F14: - | G14: - | H14: - | I14: - | J14: - | K14: - | L14: =IFERROR((IF((MAX(D14:K14)/M$6)=0,"-",MAX(D14:K14)/M$6)),"-") -> - | M14: =IFERROR((IF((MAX(D14:K14)-D14)/D14=0,"-",MAX(D14:K14)-D14)/D14),"-") -> - | N14: =IFERROR(((IF((MAX(D14:K14)/N$6)=0,"-",IF(MAX(D14:K14)>=N$6,"Yes","No")))),"-") -> - | O14: =IFERROR((IF((D14/$N$6)=0,"-",IF(D14>=$N$6,"Yes","No"))),"-") -> - | P14: =IFERROR((IF((E14/$N$6)=0,"-",IF(E14>=$N$6,"Yes","No"))),"-") -> - | Q14: =IFERROR((IF((F14/$N$6)=0,"-",IF(F14>=$N$6,"Yes","No"))),"-") -> - | R14: =IFERROR((IF((G14/$N$6)=0,"-",IF(G14>=$N$6,"Yes","No"))),"-") -> - | S14: =IFERROR((IF((H14/$N$6)=0,"-",IF(H14>=$N$6,"Yes","No"))),"-") -> - | T14: =IFERROR((IF((I14/$N$6)=0,"-",IF(I14>=$N$6,"Yes","No"))),"-") -> - | U14: =IFERROR((IF((J14/$N$6)=0,"-",IF(J14>=$N$6,"Yes","No"))),"-") -> - | V14: =IFERROR((IF((K14/$N$6)=0,"-",IF(K14>=$N$6,"Yes","No"))),"-") -> -
A15: 7 | B15: =CONCATENATE('Class Info.'!B16," ",'Class Info.'!C16) | C15: ='Class Info.'!E16 -> - | D15: - | E15: - | F15: - | G15: - | H15: - | I15: - | J15: - | K15: - | L15: =IFERROR((IF((MAX(D15:K15)/M$6)=0,"-",MAX(D15:K15)/M$6)),"-") -> - | M15: =IFERROR((IF((MAX(D15:K15)-D15)/D15=0,"-",MAX(D15:K15)-D15)/D15),"-") -> - | N15: =IFERROR(((IF((MAX(D15:K15)/N$6)=0,"-",IF(MAX(D15:K15)>=N$6,"Yes","No")))),"-") -> - | O15: =IFERROR((IF((D15/$N$6)=0,"-",IF(D15>=$N$6,"Yes","No"))),"-") -> - | P15: =IFERROR((IF((E15/$N$6)=0,"-",IF(E15>=$N$6,"Yes","No"))),"-") -> - | Q15: =IFERROR((IF((F15/$N$6)=0,"-",IF(F15>=$N$6,"Yes","No"))),"-") -> - | R15: =IFERROR((IF((G15/$N$6)=0,"-",IF(G15>=$N$6,"Yes","No"))),"-") -> - | S15: =IFERROR((IF((H15/$N$6)=0,"-",IF(H15>=$N$6,"Yes","No"))),"-") -> - | T15: =IFERROR((IF((I15/$N$6)=0,"-",IF(I15>=$N$6,"Yes","No"))),"-") -> - | U15: =IFERROR((IF((J15/$N$6)=0,"-",IF(J15>=$N$6,"Yes","No"))),"-") -> - | V15: =IFERROR((IF((K15/$N$6)=0,"-",IF(K15>=$N$6,"Yes","No"))),"-") -> -
A16: 8 | B16: =CONCATENATE('Class Info.'!B17," ",'Class Info.'!C17) | C16: ='Class Info.'!E17 -> - | D16: - | E16: - | F16: - | G16: - | H16: - | I16: - | J16: - | K16: - | L16: =IFERROR((IF((MAX(D16:K16)/M$6)=0,"-",MAX(D16:K16)/M$6)),"-") -> - | M16: =IFERROR((IF((MAX(D16:K16)-D16)/D16=0,"-",MAX(D16:K16)-D16)/D16),"-") -> - | N16: =IFERROR(((IF((MAX(D16:K16)/N$6)=0,"-",IF(MAX(D16:K16)>=N$6,"Yes","No")))),"-") -> - | O16: =IFERROR((IF((D16/$N$6)=0,"-",IF(D16>=$N$6,"Yes","No"))),"-") -> - | P16: =IFERROR((IF((E16/$N$6)=0,"-",IF(E16>=$N$6,"Yes","No"))),"-") -> - | Q16: =IFERROR((IF((F16/$N$6)=0,"-",IF(F16>=$N$6,"Yes","No"))),"-") -> - | R16: =IFERROR((IF((G16/$N$6)=0,"-",IF(G16>=$N$6,"Yes","No"))),"-") -> - | S16: =IFERROR((IF((H16/$N$6)=0,"-",IF(H16>=$N$6,"Yes","No"))),"-") -> - | T16: =IFERROR((IF((I16/$N$6)=0,"-",IF(I16>=$N$6,"Yes","No"))),"-") -> - | U16: =IFERROR((IF((J16/$N$6)=0,"-",IF(J16>=$N$6,"Yes","No"))),"-") -> - | V16: =IFERROR((IF((K16/$N$6)=0,"-",IF(K16>=$N$6,"Yes","No"))),"-") -> -
A17: 9 | B17: =CONCATENATE('Class Info.'!B18," ",'Class Info.'!C18) | C17: ='Class Info.'!E18 -> - | D17: - | E17: - | F17: - | G17: - | H17: - | I17: - | J17: - | K17: - | L17: =IFERROR((IF((MAX(D17:K17)/M$6)=0,"-",MAX(D17:K17)/M$6)),"-") -> - | M17: =IFERROR((IF((MAX(D17:K17)-D17)/D17=0,"-",MAX(D17:K17)-D17)/D17),"-") -> - | N17: =IFERROR(((IF((MAX(D17:K17)/N$6)=0,"-",IF(MAX(D17:K17)>=N$6,"Yes","No")))),"-") -> - | O17: =IFERROR((IF((D17/$N$6)=0,"-",IF(D17>=$N$6,"Yes","No"))),"-") -> - | P17: =IFERROR((IF((E17/$N$6)=0,"-",IF(E17>=$N$6,"Yes","No"))),"-") -> - | Q17: =IFERROR((IF((F17/$N$6)=0,"-",IF(F17>=$N$6,"Yes","No"))),"-") -> - | R17: =IFERROR((IF((G17/$N$6)=0,"-",IF(G17>=$N$6,"Yes","No"))),"-") -> - | S17: =IFERROR((IF((H17/$N$6)=0,"-",IF(H17>=$N$6,"Yes","No"))),"-") -> - | T17: =IFERROR((IF((I17/$N$6)=0,"-",IF(I17>=$N$6,"Yes","No"))),"-") -> - | U17: =IFERROR((IF((J17/$N$6)=0,"-",IF(J17>=$N$6,"Yes","No"))),"-") -> - | V17: =IFERROR((IF((K17/$N$6)=0,"-",IF(K17>=$N$6,"Yes","No"))),"-") -> -
A18: 10 | B18: =CONCATENATE('Class Info.'!B19," ",'Class Info.'!C19) | C18: ='Class Info.'!E19 -> - | D18: - | E18: - | F18: - | G18: - | H18: - | I18: - | J18: - | K18: - | L18: =IFERROR((IF((MAX(D18:K18)/M$6)=0,"-",MAX(D18:K18)/M$6)),"-") -> - | M18: =IFERROR((IF((MAX(D18:K18)-D18)/D18=0,"-",MAX(D18:K18)-D18)/D18),"-") -> - | N18: =IFERROR(((IF((MAX(D18:K18)/N$6)=0,"-",IF(MAX(D18:K18)>=N$6,"Yes","No")))),"-") -> - | O18: =IFERROR((IF((D18/$N$6)=0,"-",IF(D18>=$N$6,"Yes","No"))),"-") -> - | P18: =IFERROR((IF((E18/$N$6)=0,"-",IF(E18>=$N$6,"Yes","No"))),"-") -> - | Q18: =IFERROR((IF((F18/$N$6)=0,"-",IF(F18>=$N$6,"Yes","No"))),"-") -> - | R18: =IFERROR((IF((G18/$N$6)=0,"-",IF(G18>=$N$6,"Yes","No"))),"-") -> - | S18: =IFERROR((IF((H18/$N$6)=0,"-",IF(H18>=$N$6,"Yes","No"))),"-") -> - | T18: =IFERROR((IF((I18/$N$6)=0,"-",IF(I18>=$N$6,"Yes","No"))),"-") -> - | U18: =IFERROR((IF((J18/$N$6)=0,"-",IF(J18>=$N$6,"Yes","No"))),"-") -> - | V18: =IFERROR((IF((K18/$N$6)=0,"-",IF(K18>=$N$6,"Yes","No"))),"-") -> -
A19: 11 | B19: =CONCATENATE('Class Info.'!B20," ",'Class Info.'!C20) | C19: ='Class Info.'!E20 -> - | D19: - | E19: - | F19: - | G19: - | H19: - | I19: - | J19: - | K19: - | L19: =IFERROR((IF((MAX(D19:K19)/M$6)=0,"-",MAX(D19:K19)/M$6)),"-") -> - | M19: =IFERROR((IF((MAX(D19:K19)-D19)/D19=0,"-",MAX(D19:K19)-D19)/D19),"-") -> - | N19: =IFERROR(((IF((MAX(D19:K19)/N$6)=0,"-",IF(MAX(D19:K19)>=N$6,"Yes","No")))),"-") -> - | O19: =IFERROR((IF((D19/$N$6)=0,"-",IF(D19>=$N$6,"Yes","No"))),"-") -> - | P19: =IFERROR((IF((E19/$N$6)=0,"-",IF(E19>=$N$6,"Yes","No"))),"-") -> - | Q19: =IFERROR((IF((F19/$N$6)=0,"-",IF(F19>=$N$6,"Yes","No"))),"-") -> - | R19: =IFERROR((IF((G19/$N$6)=0,"-",IF(G19>=$N$6,"Yes","No"))),"-") -> - | S19: =IFERROR((IF((H19/$N$6)=0,"-",IF(H19>=$N$6,"Yes","No"))),"-") -> - | T19: =IFERROR((IF((I19/$N$6)=0,"-",IF(I19>=$N$6,"Yes","No"))),"-") -> - | U19: =IFERROR((IF((J19/$N$6)=0,"-",IF(J19>=$N$6,"Yes","No"))),"-") -> - | V19: =IFERROR((IF((K19/$N$6)=0,"-",IF(K19>=$N$6,"Yes","No"))),"-") -> -
A20: 12 | B20: =CONCATENATE('Class Info.'!B21," ",'Class Info.'!C21) | C20: ='Class Info.'!E21 -> - | D20: - | E20: - | F20: - | G20: - | H20: - | I20: - | J20: - | K20: - | L20: =IFERROR((IF((MAX(D20:K20)/M$6)=0,"-",MAX(D20:K20)/M$6)),"-") -> - | M20: =IFERROR((IF((MAX(D20:K20)-D20)/D20=0,"-",MAX(D20:K20)-D20)/D20),"-") -> - | N20: =IFERROR(((IF((MAX(D20:K20)/N$6)=0,"-",IF(MAX(D20:K20)>=N$6,"Yes","No")))),"-") -> - | O20: =IFERROR((IF((D20/$N$6)=0,"-",IF(D20>=$N$6,"Yes","No"))),"-") -> - | P20: =IFERROR((IF((E20/$N$6)=0,"-",IF(E20>=$N$6,"Yes","No"))),"-") -> - | Q20: =IFERROR((IF((F20/$N$6)=0,"-",IF(F20>=$N$6,"Yes","No"))),"-") -> - | R20: =IFERROR((IF((G20/$N$6)=0,"-",IF(G20>=$N$6,"Yes","No"))),"-") -> - | S20: =IFERROR((IF((H20/$N$6)=0,"-",IF(H20>=$N$6,"Yes","No"))),"-") -> - | T20: =IFERROR((IF((I20/$N$6)=0,"-",IF(I20>=$N$6,"Yes","No"))),"-") -> - | U20: =IFERROR((IF((J20/$N$6)=0,"-",IF(J20>=$N$6,"Yes","No"))),"-") -> - | V20: =IFERROR((IF((K20/$N$6)=0,"-",IF(K20>=$N$6,"Yes","No"))),"-") -> -
... A43: 35 | B43: =CONCATENATE('Class Info.'!B44," ",'Class Info.'!C44) | C43: ='Class Info.'!E44 -> - | D43: - | E43: - | F43: - | G43: - | H43: - | I43: - | J43: - | K43: - | L43: =IFERROR((IF((MAX(D43:K43)/M$6)=0,"-",MAX(D43:K43)/M$6)),"-") -> - | M43: =IFERROR((IF((MAX(D43:K43)-D43)/D43=0,"-",MAX(D43:K43)-D43)/D43),"-") -> - | N43: =IFERROR(((IF((MAX(D43:K43)/N$6)=0,"-",IF(MAX(D43:K43)>=N$6,"Yes","No")))),"-") -> - | O43: =IFERROR((IF((D43/$N$6)=0,"-",IF(D43>=$N$6,"Yes","No"))),"-") -> - | P43: =IFERROR((IF((E43/$N$6)=0,"-",IF(E43>=$N$6,"Yes","No"))),"-") -> - | Q43: =IFERROR((IF((F43/$N$6)=0,"-",IF(F43>=$N$6,"Yes","No"))),"-") -> - | R43: =IFERROR((IF((G43/$N$6)=0,"-",IF(G43>=$N$6,"Yes","No"))),"-") -> - | S43: =IFERROR((IF((H43/$N$6)=0,"-",IF(H43>=$N$6,"Yes","No"))),"-") -> - | T43: =IFERROR((IF((I43/$N$6)=0,"-",IF(I43>=$N$6,"Yes","No"))),"-") -> - | U43: =IFERROR((IF((J43/$N$6)=0,"-",IF(J43>=$N$6,"Yes","No"))),"-") -> - | V43: =IFERROR((IF((K43/$N$6)=0,"-",IF(K43>=$N$6,"Yes","No"))),"-") -> -
A44: RAW CLASS TOTALS | D44: =IFERROR(AVERAGE(D9:D43),"-") -> - | E44: =IFERROR(AVERAGE(E9:E43),"-") -> - | F44: =IFERROR(AVERAGE(F9:F43),"-") -> - | G44: =IFERROR(AVERAGE(G9:G43),"-") -> - | H44: =IFERROR(AVERAGE(H9:H43),"-") -> - | I44: =IFERROR(AVERAGE(I9:I43),"-") -> - | J44: =IFERROR(AVERAGE(J9:J43),"-") -> - | K44: =IFERROR(AVERAGE(K9:K43),"-") -> - | L44: =IFERROR((IF((MAX(D44:K44)/M$6)=0,"-",MAX(D44:K44)/M$6)),"-") -> - | M44: =IFERROR((IF((MAX(D44:K44)-D44)/D44=0,"-",MAX(D44:K44)-D44)/D44),"-") -> - | N44: =IFERROR((COUNTIF(N9:N43,"Yes")/(COUNTIF(N9:N43,"Yes")+COUNTIF(N9:N43,"No"))),"-") -> -
A45: % OF APRIL AVERAGE | D45: =IFERROR((D44/$M$6),"-") -> - | E45: =IFERROR((E44/$M$6),"-") -> - | F45: =IFERROR((F44/$M$6),"-") -> - | G45: =IFERROR((G44/$M$6),"-") -> - | H45: =IFERROR((H44/$M$6),"-") -> - | I45: =IFERROR((I44/$M$6),"-") -> - | J45: =IFERROR((J44/$M$6),"-") -> - | K45: =IFERROR((K44/$M$6),"-") -> -
A46: % MONTHLY GAIN | D46: - | E46: =IFERROR(((E44-D44)/D44),"-") -> - | F46: =IFERROR(((F44-E44)/E44),"-") -> - | G46: =IFERROR(((G44-F44)/F44),"-") -> - | H46: =IFERROR(((H44-G44)/G44),"-") -> - | I46: =IFERROR(((I44-H44)/H44),"-") -> - | J46: =IFERROR(((J44-I44)/I44),"-") -> - | K46: =IFERROR(((K44-J44)/J44),"-") -> -
A47: % PROFICIENT OF YEAR END CUT | D47: =IFERROR((COUNTIF(O9:O43,"Yes")/(COUNTIF(O9:O43,"Yes")+COUNTIF(O9:O43,"No"))),"-") -> - | E47: =IFERROR((COUNTIF(P9:P43,"Yes")/(COUNTIF(P9:P43,"Yes")+COUNTIF(P9:P43,"No"))),"-") -> - | F47: =IFERROR((COUNTIF(Q9:Q43,"Yes")/(COUNTIF(Q9:Q43,"Yes")+COUNTIF(Q9:Q43,"No"))),"-") -> - | G47: =IFERROR((COUNTIF(R9:R43,"Yes")/(COUNTIF(R9:R43,"Yes")+COUNTIF(R9:R43,"No"))),"-") -> - | H47: =IFERROR((COUNTIF(S9:S43,"Yes")/(COUNTIF(S9:S43,"Yes")+COUNTIF(S9:S43,"No"))),"-") -> - | I47: =IFERROR((COUNTIF(T9:T43,"Yes")/(COUNTIF(T9:T43,"Yes")+COUNTIF(T9:T43,"No"))),"-") -> - | J47: =IFERROR((COUNTIF(U9:U43,"Yes")/(COUNTIF(U9:U43,"Yes")+COUNTIF(U9:U43,"No"))),"-") -> - | K47: =IFERROR((COUNTIF(V9:V43,"Yes")/(COUNTIF(V9:V43,"Yes")+COUNTIF(V9:V43,"No"))),"-") -> -

Sheet IXL ELA
B2: Student Assessment Report
B3: IXL Diagnostic for ELA and Reading
A5: TEACHER | C5: YEAR | F5: GRADE | H5: ELA | L5: Reading
H6: Aug | I6: Apr | J6: Prof. | L6: Aug | M6: Apr. | N6: Prof.
A7: ='Class Info.'!A7:B7 -> ?? | C7: ='Class Info.'!E7 -> ?? | F7: ='Class Info.'!H7 -> ? | H7: - | I7: - | J7: - | L7: - | M7: - | N7: -
D9: Overall Language Arts | L9: Overall Reading | P9: Overall Reading (cont) | T9: Reading Strategies | X9: Vocabulary | AB9: Writing Strategies | AF9: Grammar & Mechanics
A10: STUDENT NAME | C10: Student # | D10: 1st | E10: 2nd | F10: 3rd | H10: % Apr | I10: % Gain | J10: Prof. | L10: 1st | M10: 2nd | N10: 3rd | P10: % Apr | Q10: % Gain | R10: Prof. | T10: 1st | U10: 2nd | V10: 3rd | X10: 1st | Y10: 2nd | Z10: 3rd | AB10: 1st | AC10: 2nd | AD10: 3rd | AF10: 1st | AG10: 2nd | AH10: 3rd
A11: 1 | B11: =CONCATENATE('Class Info.'!B10," ",'Class Info.'!C10) | C11: ='Class Info.'!E10 -> - | D11: - | E11: - | F11: - | H11: =IFERROR((IF((MAX(D11:F11)/I$7)=0,"-",MAX(D11:F11)/I$7)),"-") -> - | I11: =IFERROR((IF((MAX(D11:F11)-D11)/D11=0,"-",MAX(D11:F11)-D11)/D11),"-") -> - | J11: =IFERROR(((IF((MAX(D11:F11)/J$7)=0,"-",IF(MAX(D11:F11)>=J$7,"Yes","No")))),"-") -> - | L11: - | M11: - | N11: - | P11: =IFERROR((IF((MAX(L11:N11)/M$7)=0,"-",MAX(L11:N11)/M$7)),"-") -> - | Q11: =IFERROR((IF((MAX(L11:N11)-L11)/L11=0,"-",MAX(L11:N11)-L11)/L11),"-") -> - | R11: =IFERROR(((IF((MAX(L11:N11)/N$7)=0,"-",IF(MAX(L11:N11)>=N$7,"Yes","No")))),"-") -> -
A12: 2 | B12: =CONCATENATE('Class Info.'!B11," ",'Class Info.'!C11) | C12: ='Class Info.'!E11 -> - | D12: - | E12: - | F12: - | H12: =IFERROR((IF((MAX(D12:F12)/I$7)=0,"-",MAX(D12:F12)/I$7)),"-") -> - | I12: =IFERROR((IF((MAX(D12:F12)-D12)/D12=0,"-",MAX(D12:F12)-D12)/D12),"-") -> - | J12: =IFERROR(((IF((MAX(D12:F12)/J$7)=0,"-",IF(MAX(D12:F12)>=J$7,"Yes","No")))),"-") -> - | L12: - | M12: - | N12: - | P12: =IFERROR((IF((MAX(L12:N12)/M$7)=0,"-",MAX(L12:N12)/M$7)),"-") -> - | Q12: =IFERROR((IF((MAX(L12:N12)-L12)/L12=0,"-",MAX(L12:N12)-L12)/L12),"-") -> - | R12: =IFERROR(((IF((MAX(L12:N12)/N$7)=0,"-",IF(MAX(L12:N12)>=N$7,"Yes","No")))),"-") -> -
A13: 3 | B13: =CONCATENATE('Class Info.'!B12," ",'Class Info.'!C12) | C13: ='Class Info.'!E12 -> - | D13: - | E13: - | F13: - | H13: =IFERROR((IF((MAX(D13:F13)/I$7)=0,"-",MAX(D13:F13)/I$7)),"-") -> - | I13: =IFERROR((IF((MAX(D13:F13)-D13)/D13=0,"-",MAX(D13:F13)-D13)/D13),"-") -> - | J13: =IFERROR(((IF((MAX(D13:F13)/J$7)=0,"-",IF(MAX(D13:F13)>=J$7,"Yes","No")))),"-") -> - | L13: - | M13: - | N13: - | P13: =IFERROR((IF((MAX(L13:N13)/M$7)=0,"-",MAX(L13:N13)/M$7)),"-") -> - | Q13: =IFERROR((IF((MAX(L13:N13)-L13)/L13=0,"-",MAX(L13:N13)-L13)/L13),"-") -> - | R13: =IFERROR(((IF((MAX(L13:N13)/N$7)=0,"-",IF(MAX(L13:N13)>=N$7,"Yes","No")))),"-") -> -
A14: 4 | B14: =CONCATENATE('Class Info.'!B13," ",'Class Info.'!C13) | C14: ='Class Info.'!E13 -> - | D14: - | E14: - | F14: - | H14: =IFERROR((IF((MAX(D14:F14)/I$7)=0,"-",MAX(D14:F14)/I$7)),"-") -> - | I14: =IFERROR((IF((MAX(D14:F14)-D14)/D14=0,"-",MAX(D14:F14)-D14)/D14),"-") -> - | J14: =IFERROR(((IF((MAX(D14:F14)/J$7)=0,"-",IF(MAX(D14:F14)>=J$7,"Yes","No")))),"-") -> - | L14: - | M14: - | N14: - | P14: =IFERROR((IF((MAX(L14:N14)/M$7)=0,"-",MAX(L14:N14)/M$7)),"-") -> - | Q14: =IFERROR((IF((MAX(L14:N14)-L14)/L14=0,"-",MAX(L14:N14)-L14)/L14),"-") -> - | R14: =IFERROR(((IF((MAX(L14:N14)/N$7)=0,"-",IF(MAX(L14:N14)>=N$7,"Yes","No")))),"-") -> -
A15: 5 | B15: =CONCATENATE('Class Info.'!B14," ",'Class Info.'!C14) | C15: ='Class Info.'!E14 -> - | D15: - | E15: - | F15: - | H15: =IFERROR((IF((MAX(D15:F15)/I$7)=0,"-",MAX(D15:F15)/I$7)),"-") -> - | I15: =IFERROR((IF((MAX(D15:F15)-D15)/D15=0,"-",MAX(D15:F15)-D15)/D15),"-") -> - | J15: =IFERROR(((IF((MAX(D15:F15)/J$7)=0,"-",IF(MAX(D15:F15)>=J$7,"Yes","No")))),"-") -> - | L15: - | M15: - | N15: - | P15: =IFERROR((IF((MAX(L15:N15)/M$7)=0,"-",MAX(L15:N15)/M$7)),"-") -> - | Q15: =IFERROR((IF((MAX(L15:N15)-L15)/L15=0,"-",MAX(L15:N15)-L15)/L15),"-") -> - | R15: =IFERROR(((IF((MAX(L15:N15)/N$7)=0,"-",IF(MAX(L15:N15)>=N$7,"Yes","No")))),"-") -> -
A16: 6 | B16: =CONCATENATE('Class Info.'!B15," ",'Class Info.'!C15) | C16: ='Class Info.'!E15 -> - | D16: - | E16: - | F16: - | H16: =IFERROR((IF((MAX(D16:F16)/I$7)=0,"-",MAX(D16:F16)/I$7)),"-") -> - | I16: =IFERROR((IF((MAX(D16:F16)-D16)/D16=0,"-",MAX(D16:F16)-D16)/D16),"-") -> - | J16: =IFERROR(((IF((MAX(D16:F16)/J$7)=0,"-",IF(MAX(D16:F16)>=J$7,"Yes","No")))),"-") -> - | L16: - | M16: - | N16: - | P16: =IFERROR((IF((MAX(L16:N16)/M$7)=0,"-",MAX(L16:N16)/M$7)),"-") -> - | Q16: =IFERROR((IF((MAX(L16:N16)-L16)/L16=0,"-",MAX(L16:N16)-L16)/L16),"-") -> - | R16: =IFERROR(((IF((MAX(L16:N16)/N$7)=0,"-",IF(MAX(L16:N16)>=N$7,"Yes","No")))),"-") -> -
A17: 7 | B17: =CONCATENATE('Class Info.'!B16," ",'Class Info.'!C16) | C17: ='Class Info.'!E16 -> - | D17: - | E17: - | F17: - | H17: =IFERROR((IF((MAX(D17:F17)/I$7)=0,"-",MAX(D17:F17)/I$7)),"-") -> - | I17: =IFERROR((IF((MAX(D17:F17)-D17)/D17=0,"-",MAX(D17:F17)-D17)/D17),"-") -> - | J17: =IFERROR(((IF((MAX(D17:F17)/J$7)=0,"-",IF(MAX(D17:F17)>=J$7,"Yes","No")))),"-") -> - | L17: - | M17: - | N17: - | P17: =IFERROR((IF((MAX(L17:N17)/M$7)=0,"-",MAX(L17:N17)/M$7)),"-") -> - | Q17: =IFERROR((IF((MAX(L17:N17)-L17)/L17=0,"-",MAX(L17:N17)-L17)/L17),"-") -> - | R17: =IFERROR(((IF((MAX(L17:N17)/N$7)=0,"-",IF(MAX(L17:N17)>=N$7,"Yes","No")))),"-") -> -
A18: 8 | B18: =CONCATENATE('Class Info.'!B17," ",'Class Info.'!C17) | C18: ='Class Info.'!E17 -> - | D18: - | E18: - | F18: - | H18: =IFERROR((IF((MAX(D18:F18)/I$7)=0,"-",MAX(D18:F18)/I$7)),"-") -> - | I18: =IFERROR((IF((MAX(D18:F18)-D18)/D18=0,"-",MAX(D18:F18)-D18)/D18),"-") -> - | J18: =IFERROR(((IF((MAX(D18:F18)/J$7)=0,"-",IF(MAX(D18:F18)>=J$7,"Yes","No")))),"-") -> - | L18: - | M18: - | N18: - | P18: =IFERROR((IF((MAX(L18:N18)/M$7)=0,"-",MAX(L18:N18)/M$7)),"-") -> - | Q18: =IFERROR((IF((MAX(L18:N18)-L18)/L18=0,"-",MAX(L18:N18)-L18)/L18),"-") -> - | R18: =IFERROR(((IF((MAX(L18:N18)/N$7)=0,"-",IF(MAX(L18:N18)>=N$7,"Yes","No")))),"-") -> -
A19: 9 | B19: =CONCATENATE('Class Info.'!B18," ",'Class Info.'!C18) | C19: ='Class Info.'!E18 -> - | D19: - | E19: - | F19: - | H19: =IFERROR((IF((MAX(D19:F19)/I$7)=0,"-",MAX(D19:F19)/I$7)),"-") -> - | I19: =IFERROR((IF((MAX(D19:F19)-D19)/D19=0,"-",MAX(D19:F19)-D19)/D19),"-") -> - | J19: =IFERROR(((IF((MAX(D19:F19)/J$7)=0,"-",IF(MAX(D19:F19)>=J$7,"Yes","No")))),"-") -> - | L19: - | M19: - | N19: - | P19: =IFERROR((IF((MAX(L19:N19)/M$7)=0,"-",MAX(L19:N19)/M$7)),"-") -> - | Q19: =IFERROR((IF((MAX(L19:N19)-L19)/L19=0,"-",MAX(L19:N19)-L19)/L19),"-") -> - | R19: =IFERROR(((IF((MAX(L19:N19)/N$7)=0,"-",IF(MAX(L19:N19)>=N$7,"Yes","No")))),"-") -> -
A20: 10 | B20: =CONCATENATE('Class Info.'!B19," ",'Class Info.'!C19) | C20: ='Class Info.'!E19 -> - | D20: - | E20: - | F20: - | H20: =IFERROR((IF((MAX(D20:F20)/I$7)=0,"-",MAX(D20:F20)/I$7)),"-") -> - | I20: =IFERROR((IF((MAX(D20:F20)-D20)/D20=0,"-",MAX(D20:F20)-D20)/D20),"-") -> - | J20: =IFERROR(((IF((MAX(D20:F20)/J$7)=0,"-",IF(MAX(D20:F20)>=J$7,"Yes","No")))),"-") -> - | L20: - | M20: - | N20: - | P20: =IFERROR((IF((MAX(L20:N20)/M$7)=0,"-",MAX(L20:N20)/M$7)),"-") -> - | Q20: =IFERROR((IF((MAX(L20:N20)-L20)/L20=0,"-",MAX(L20:N20)-L20)/L20),"-") -> - | R20: =IFERROR(((IF((MAX(L20:N20)/N$7)=0,"-",IF(MAX(L20:N20)>=N$7,"Yes","No")))),"-") -> -
A21: 11 | B21: =CONCATENATE('Class Info.'!B20," ",'Class Info.'!C20) | C21: ='Class Info.'!E20 -> - | D21: - | E21: - | F21: - | H21: =IFERROR((IF((MAX(D21:F21)/I$7)=0,"-",MAX(D21:F21)/I$7)),"-") -> - | I21: =IFERROR((IF((MAX(D21:F21)-D21)/D21=0,"-",MAX(D21:F21)-D21)/D21),"-") -> - | J21: =IFERROR(((IF((MAX(D21:F21)/J$7)=0,"-",IF(MAX(D21:F21)>=J$7,"Yes","No")))),"-") -> - | L21: - | M21: - | N21: - | P21: =IFERROR((IF((MAX(L21:N21)/M$7)=0,"-",MAX(L21:N21)/M$7)),"-") -> - | Q21: =IFERROR((IF((MAX(L21:N21)-L21)/L21=0,"-",MAX(L21:N21)-L21)/L21),"-") -> - | R21: =IFERROR(((IF((MAX(L21:N21)/N$7)=0,"-",IF(MAX(L21:N21)>=N$7,"Yes","No")))),"-") -> -
A22: 12 | B22: =CONCATENATE('Class Info.'!B21," ",'Class Info.'!C21) | C22: ='Class Info.'!E21 -> - | D22: - | E22: - | F22: - | H22: =IFERROR((IF((MAX(D22:F22)/I$7)=0,"-",MAX(D22:F22)/I$7)),"-") -> - | I22: =IFERROR((IF((MAX(D22:F22)-D22)/D22=0,"-",MAX(D22:F22)-D22)/D22),"-") -> - | J22: =IFERROR(((IF((MAX(D22:F22)/J$7)=0,"-",IF(MAX(D22:F22)>=J$7,"Yes","No")))),"-") -> - | L22: - | M22: - | N22: - | P22: =IFERROR((IF((MAX(L22:N22)/M$7)=0,"-",MAX(L22:N22)/M$7)),"-") -> - | Q22: =IFERROR((IF((MAX(L22:N22)-L22)/L22=0,"-",MAX(L22:N22)-L22)/L22),"-") -> - | R22: =IFERROR(((IF((MAX(L22:N22)/N$7)=0,"-",IF(MAX(L22:N22)>=N$7,"Yes","No")))),"-") -> -
... A45: 35 | B45: =CONCATENATE('Class Info.'!B44," ",'Class Info.'!C44) | C45: ='Class Info.'!E44 -> - | D45: - | E45: - | F45: - | H45: =IFERROR((IF((MAX(D45:F45)/I$7)=0,"-",MAX(D45:F45)/I$7)),"-") -> - | I45: =IFERROR((IF((MAX(D45:F45)-D45)/D45=0,"-",MAX(D45:F45)-D45)/D45),"-") -> - | J45: =IFERROR(((IF((MAX(D45:F45)/J$7)=0,"-",IF(MAX(D45:F45)>=J$7,"Yes","No")))),"-") -> - | L45: - | M45: - | N45: - | P45: =IFERROR((IF((MAX(L45:N45)/M$7)=0,"-",MAX(L45:N45)/M$7)),"-") -> - | Q45: =IFERROR((IF((MAX(L45:N45)-L45)/L45=0,"-",MAX(L45:N45)-L45)/L45),"-") -> - | R45: =IFERROR(((IF((MAX(L45:N45)/N$7)=0,"-",IF(MAX(L45:N45)>=N$7,"Yes","No")))),"-") -> -
A46: CLASS AVERAGES | D46: =IFERROR(AVERAGE(D11:D45),"-") -> - | E46: =IFERROR(AVERAGE(E11:E45),"-") -> - | F46: =IFERROR(AVERAGE(F11:F45),"-") -> - | H46: =IFERROR((IF((MAX(D46:F46)/I$7)=0,"-",MAX(D46:F46)/I$7)),"-") -> - | I46: =IFERROR((IF((MAX(D46:F46)-D46)/D46=0,"-",MAX(D46:F46)-E46)/E46),"-") -> - | J46: =IFERROR((COUNTIF(J11:J45,"Yes")/(COUNTIF(J11:J45,"Yes")+COUNTIF(J11:J45,"No"))),"-") -> - | L46: =IFERROR(AVERAGE(L11:L45),"-") -> - | M46: =IFERROR(AVERAGE(M11:M45),"-") -> - | N46: =IFERROR(AVERAGE(N11:N45),"-") -> - | P46: =IFERROR((IF((MAX(L46:N46)/M$7)=0,"-",MAX(L46:N46)/M$7)),"-") -> - | Q46: =IFERROR((IF((MAX(L46:N46)-L46)/L46=0,"-",MAX(L46:N46)-M46)/M46),"-") -> - | R46: =IFERROR((COUNTIF(R11:R45,"Yes")/(COUNTIF(R11:R45,"Yes")+COUNTIF(R11:R45,"No"))),"-") -> - | T46: =IFERROR(AVERAGE(T11:T45),"-") -> - | U46: =IFERROR(AVERAGE(U11:U45),"-") -> - | V46: =IFERROR(AVERAGE(V11:V45),"-") -> - | X46: =IFERROR(AVERAGE(X11:X45),"-") -> - | Y46: =IFERROR(AVERAGE(Y11:Y45),"-") -> - | Z46: =IFERROR(AVERAGE(Z11:Z45),"-") -> - | AB46: =IFERROR(AVERAGE(AB11:AB45),"-") -> - | AC46: =IFERROR(AVERAGE(AC11:AC45),"-") -> - | AD46: =IFERROR(AVERAGE(AD11:AD45),"-") -> - | AF46: =IFERROR(AVERAGE(AF11:AF45),"-") -> - | AG46: =IFERROR(AVERAGE(AG11:AG45),"-") -> - | AH46: =IFERROR(AVERAGE(AH11:AH45),"-") -> -

Sheet WPM
B2: Student Assessment Report
B3: Reading Words Per Minute
A5: TEACHER | D5: YEAR | G5: GRADE | J5: WPM
J6: Aug | K6: Apr | L6: Prof.
A7: ='Class Info.'!A7 -> ?? | D7: ='Class Info.'!E7 -> ?? | G7: ='Class Info.'!H7 -> ? | J7: - | K7: - | L7: -
A9: Reading Words Per Minute
A10: STUDENT NAME | C10: Student # | D10: 1st | E10: 2nd | F10: 3rd | G10: % Apr | H10: % Gain | I10: Prof.
A11: 1 | B11: =CONCATENATE('Class Info.'!B10," ",'Class Info.'!C10) | C11: ='Class Info.'!E10 -> - | D11: - | E11: - | F11: - | G11: =IFERROR((IF((MAX(D11:F11)/K$7)=0,"-",MAX(D11:F11)/K$7)),"-") -> - | H11: =IFERROR((IF((MAX(D11:F11)-D11)/D11=0,"-",MAX(D11:F11)-D11)/D11),"-") -> - | I11: =IFERROR(((IF((MAX(D11:F11)/L$7)=0,"-",IF(MAX(D11:F11)>=L$7,"Yes","No")))),"-") -> - | M11: =IFERROR((IF((D11/$L$7)=0,"-",IF(D11>=$L$7,"Yes","No"))),"-") -> - | N11: =IFERROR((IF((E11/$L$7)=0,"-",IF(E11>=$L$7,"Yes","No"))),"-") -> - | O11: =IFERROR((IF((F11/$L$7)=0,"-",IF(F11>=$L$7,"Yes","No"))),"-") -> -
